Workbook
Name Biens: 'Properties'!$A$6:$A$25
Name Annee: 'Summary'!$C$6

Sheet Read me
B2: Rental property spreadsheet template
B3: by Patrice · mypatrice.com
B6: Your rental properties, their rent and their returns
B7: One tab for your properties, one for your rent and expenses; the workbook works out gross and net yield, cash flow and each property's result for the year, and spots rent that was not received.
B9: How to use it
B10: 1. “Properties” tab: one row per property, with its price, fees and works, rent, annual costs and loan payment. Yields and cash flow are calculated for you.
B11: 2. “Transactions” tab: every rent payment received and every expense, with its date, property and type, picked from the lists.
B12: 3. “Summary” tab: the latest year entered is shown; rent, expenses and result by property, and rent month by month. A past month with no rent turns orange.
B13: Only the gold cells need filling in. Amounts are before tax.
B14: The rows already filled in are made-up examples: delete them before you start.
B16: When the spreadsheet is no longer enough
B17: Patrice tracks rent month by month and surfaces late payments, issues rent receipts, imports managing-agent statements, works out the French rental result (actual or micro-foncier) and helps fill in form 2044. These features are part of Premium; the yield and cash flow indicators are free.
... B21: Free template, free to use. It is not financial, tax or legal advice. October 2026 version.

Sheet Properties
B2: My rental properties
B3: One row per property · fill in the gold cells
A5: Property | B5: City | C5: Purchase price (€) | D5: Fees and works (€) | E5: Monthly rent (€) | F5: Annual costs (€) | G5: Loan payment (€) | H5: Gross yield | I5: Net yield | J5: Monthly cash flow (€)
A6: Studio (example) | B6: Lyon | C6: 145000 | D6: 12000 | E6: 620 | F6: 1450 | G6: 610 | H6: =IF(OR(C6="",E6="",C6+D6=0),"",E6*12/(C6+D6)) | I6: =IF(OR(C6="",E6="",C6+D6=0),"",(E6*12-F6)/(C6+D6)) | J6: =IF(E6="","",E6-F6/12-G6)
A7: 1-bed flat (example) | B7: Nantes | C7: 168000 | D7: 15000 | E7: 760 | F7: 1900 | G7: 0 | H7: =IF(OR(C7="",E7="",C7+D7=0),"",E7*12/(C7+D7)) | I7: =IF(OR(C7="",E7="",C7+D7=0),"",(E7*12-F7)/(C7+D7)) | J7: =IF(E7="","",E7-F7/12-G7)
H8: =IF(OR(C8="",E8="",C8+D8=0),"",E8*12/(C8+D8)) | I8: =IF(OR(C8="",E8="",C8+D8=0),"",(E8*12-F8)/(C8+D8)) | J8: =IF(E8="","",E8-F8/12-G8)
H9: =IF(OR(C9="",E9="",C9+D9=0),"",E9*12/(C9+D9)) | I9: =IF(OR(C9="",E9="",C9+D9=0),"",(E9*12-F9)/(C9+D9)) | J9: =IF(E9="","",E9-F9/12-G9)
H10: =IF(OR(C10="",E10="",C10+D10=0),"",E10*12/(C10+D10)) | I10: =IF(OR(C10="",E10="",C10+D10=0),"",(E10*12-F10)/(C10+D10)) | J10: =IF(E10="","",E10-F10/12-G10)
H11: =IF(OR(C11="",E11="",C11+D11=0),"",E11*12/(C11+D11)) | I11: =IF(OR(C11="",E11="",C11+D11=0),"",(E11*12-F11)/(C11+D11)) | J11: =IF(E11="","",E11-F11/12-G11)
H12: =IF(OR(C12="",E12="",C12+D12=0),"",E12*12/(C12+D12)) | I12: =IF(OR(C12="",E12="",C12+D12=0),"",(E12*12-F12)/(C12+D12)) | J12: =IF(E12="","",E12-F12/12-G12)
H13: =IF(OR(C13="",E13="",C13+D13=0),"",E13*12/(C13+D13)) | I13: =IF(OR(C13="",E13="",C13+D13=0),"",(E13*12-F13)/(C13+D13)) | J13: =IF(E13="","",E13-F13/12-G13)
H14: =IF(OR(C14="",E14="",C14+D14=0),"",E14*12/(C14+D14)) | I14: =IF(OR(C14="",E14="",C14+D14=0),"",(E14*12-F14)/(C14+D14)) | J14: =IF(E14="","",E14-F14/12-G14)
H15: =IF(OR(C15="",E15="",C15+D15=0),"",E15*12/(C15+D15)) | I15: =IF(OR(C15="",E15="",C15+D15=0),"",(E15*12-F15)/(C15+D15)) | J15: =IF(E15="","",E15-F15/12-G15)
H16: =IF(OR(C16="",E16="",C16+D16=0),"",E16*12/(C16+D16)) | I16: =IF(OR(C16="",E16="",C16+D16=0),"",(E16*12-F16)/(C16+D16)) | J16: =IF(E16="","",E16-F16/12-G16)
H17: =IF(OR(C17="",E17="",C17+D17=0),"",E17*12/(C17+D17)) | I17: =IF(OR(C17="",E17="",C17+D17=0),"",(E17*12-F17)/(C17+D17)) | J17: =IF(E17="","",E17-F17/12-G17)
H18: =IF(OR(C18="",E18="",C18+D18=0),"",E18*12/(C18+D18)) | I18: =IF(OR(C18="",E18="",C18+D18=0),"",(E18*12-F18)/(C18+D18)) | J18: =IF(E18="","",E18-F18/12-G18)
H19: =IF(OR(C19="",E19="",C19+D19=0),"",E19*12/(C19+D19)) | I19: =IF(OR(C19="",E19="",C19+D19=0),"",(E19*12-F19)/(C19+D19)) | J19: =IF(E19="","",E19-F19/12-G19)
... H25: =IF(OR(C25="",E25="",C25+D25=0),"",E25*12/(C25+D25)) | I25: =IF(OR(C25="",E25="",C25+D25=0),"",(E25*12-F25)/(C25+D25)) | J25: =IF(E25="","",E25-F25/12-G25)
A27: Gross yield = monthly rent × 12 ÷ (purchase price + fees and works).
A28: Net yield = (monthly rent × 12 − annual costs) ÷ (purchase price + fees and works). Annual costs: property tax, non-recoverable service charges, insurance, management fees.
A29: Monthly cash flow = monthly rent − annual costs ÷ 12 − loan payment. Before tax.

Sheet Transactions
B2: Rent and expenses
B3: One row per rent payment received or per expense · fill in the gold cells
A5: Date | B5: Property | C5: Type | D5: Amount (€) | E5: Note | F5: Side
A6: 46208 | B6: Studio (example) | C6: Rent received | D6: 620 | E6: Sample row: delete it | F6: =IF(C6="","",IFERROR(VLOOKUP(C6,'Lists'!$A:$B,2,FALSE),"Expense"))
A7: 46209 | B7: 1-bed flat (example) | C7: Rent received | D7: 760 | E7: Sample row: delete it | F7: =IF(C7="","",IFERROR(VLOOKUP(C7,'Lists'!$A:$B,2,FALSE),"Expense"))
A8: 46218 | B8: Studio (example) | C8: Service charges | D8: 210 | E8: Sample row: delete it | F8: =IF(C8="","",IFERROR(VLOOKUP(C8,'Lists'!$A:$B,2,FALSE),"Expense"))
A9: 46239 | B9: Studio (example) | C9: Rent received | D9: 620 | E9: Sample row: delete it | F9: =IF(C9="","",IFERROR(VLOOKUP(C9,'Lists'!$A:$B,2,FALSE),"Expense"))
A10: 46240 | B10: 1-bed flat (example) | C10: Rent received | D10: 760 | E10: Sample row: delete it | F10: =IF(C10="","",IFERROR(VLOOKUP(C10,'Lists'!$A:$B,2,FALSE),"Expense"))
A11: 46254 | B11: Studio (example) | C11: Works and maintenance | D11: 450 | E11: Sample row: delete it | F11: =IF(C11="","",IFERROR(VLOOKUP(C11,'Lists'!$A:$B,2,FALSE),"Expense"))
A12: 46271 | B12: 1-bed flat (example) | C12: Rent received | D12: 760 | E12: Sample row: delete it | F12: =IF(C12="","",IFERROR(VLOOKUP(C12,'Lists'!$A:$B,2,FALSE),"Expense"))
A13: 46277 | B13: 1-bed flat (example) | C13: Insurance | D13: 160 | E13: Sample row: delete it | F13: =IF(C13="","",IFERROR(VLOOKUP(C13,'Lists'!$A:$B,2,FALSE),"Expense"))
A14: 46298 | B14: Studio (example) | C14: Rent received | D14: 620 | E14: Sample row: delete it | F14: =IF(C14="","",IFERROR(VLOOKUP(C14,'Lists'!$A:$B,2,FALSE),"Expense"))
A15: 46301 | B15: 1-bed flat (example) | C15: Rent received | D15: 760 | E15: Sample row: delete it | F15: =IF(C15="","",IFERROR(VLOOKUP(C15,'Lists'!$A:$B,2,FALSE),"Expense"))
A16: 46310 | B16: Studio (example) | C16: Service charges | D16: 210 | E16: Sample row: delete it | F16: =IF(C16="","",IFERROR(VLOOKUP(C16,'Lists'!$A:$B,2,FALSE),"Expense"))
A17: 46310 | B17: Studio (example) | C17: Property tax (taxe foncière) | D17: 780 | E17: Sample row: delete it | F17: =IF(C17="","",IFERROR(VLOOKUP(C17,'Lists'!$A:$B,2,FALSE),"Expense"))
A18: 46310 | B18: 1-bed flat (example) | C18: Property tax (taxe foncière) | D18: 950 | E18: Sample row: delete it | F18: =IF(C18="","",IFERROR(VLOOKUP(C18,'Lists'!$A:$B,2,FALSE),"Expense"))
F19: =IF(C19="","",IFERROR(VLOOKUP(C19,'Lists'!$A:$B,2,FALSE),"Expense"))
F20: =IF(C20="","",IFERROR(VLOOKUP(C20,'Lists'!$A:$B,2,FALSE),"Expense"))
F21: =IF(C21="","",IFERROR(VLOOKUP(C21,'Lists'!$A:$B,2,FALSE),"Expense"))
F22: =IF(C22="","",IFERROR(VLOOKUP(C22,'Lists'!$A:$B,2,FALSE),"Expense"))
F23: =IF(C23="","",IFERROR(VLOOKUP(C23,'Lists'!$A:$B,2,FALSE),"Expense"))
F24: =IF(C24="","",IFERROR(VLOOKUP(C24,'Lists'!$A:$B,2,FALSE),"Expense"))
F25: =IF(C25="","",IFERROR(VLOOKUP(C25,'Lists'!$A:$B,2,FALSE),"Expense"))
F26: =IF(C26="","",IFERROR(VLOOKUP(C26,'Lists'!$A:$B,2,FALSE),"Expense"))
F27: =IF(C27="","",IFERROR(VLOOKUP(C27,'Lists'!$A:$B,2,FALSE),"Expense"))
F28: =IF(C28="","",IFERROR(VLOOKUP(C28,'Lists'!$A:$B,2,FALSE),"Expense"))
F29: =IF(C29="","",IFERROR(VLOOKUP(C29,'Lists'!$A:$B,2,FALSE),"Expense"))
F30: =IF(C30="","",IFERROR(VLOOKUP(C30,'Lists'!$A:$B,2,FALSE),"Expense"))
... F505: =IF(C505="","",IFERROR(VLOOKUP(C505,'Lists'!$A:$B,2,FALSE),"Expense"))

Sheet Summary
B2: Year summary
B3: Everything is calculated from the “Properties” and “Transactions” tabs
B6: Year shown | C6: =YEAR(MAX('Transactions'!$A$6:$A$505)) | D6: the latest year entered; type another to see it
B8: Result by property
B9: Property | C9: Rent | D9: Expenses | E9: Result | F9: Months paid
B10: =IF('Properties'!$A$6="","",'Properties'!$A$6) | C10: =IF($B10="","",SUMIFS('Transactions'!$D$6:$D$505,'Transactions'!$B$6:$B$505,$B10,'Transactions'!$F$6:$F$505,"Income",'Transactions'!$A$6:$A$505,">="&DATE(Annee,1,1),'Transactions'!$A$6:$A$505,"<"&DATE(Annee+1,1,1))) | D10: =IF($B10="","",SUMIFS('Transactions'!$D$6:$D$505,'Transactions'!$B$6:$B$505,$B10,'Transactions'!$F$6:$F$505,"Expense",'Transactions'!$A$6:$A$505,">="&DATE(Annee,1,1),'Transactions'!$A$6:$A$505,"<"&DATE(Annee+1,1,1))) | E10: =IF($B10="","",C10-D10) | F10: =IF($B10="","",COUNTIF(C34:N34,">0"))
B11: =IF('Properties'!$A$7="","",'Properties'!$A$7) | C11: =IF($B11="","",SUMIFS('Transactions'!$D$6:$D$505,'Transactions'!$B$6:$B$505,$B11,'Transactions'!$F$6:$F$505,"Income",'Transactions'!$A$6:$A$505,">="&DATE(Annee,1,1),'Transactions'!$A$6:$A$505,"<"&DATE(Annee+1,1,1))) | D11: =IF($B11="","",SUMIFS('Transactions'!$D$6:$D$505,'Transactions'!$B$6:$B$505,$B11,'Transactions'!$F$6:$F$505,"Expense",'Transactions'!$A$6:$A$505,">="&DATE(Annee,1,1),'Transactions'!$A$6:$A$505,"<"&DATE(Annee+1,1,1))) | E11: =IF($B11="","",C11-D11) | F11: =IF($B11="","",COUNTIF(C35:N35,">0"))
B12: =IF('Properties'!$A$8="","",'Properties'!$A$8) | C12: =IF($B12="","",SUMIFS('Transactions'!$D$6:$D$505,'Transactions'!$B$6:$B$505,$B12,'Transactions'!$F$6:$F$505,"Income",'Transactions'!$A$6:$A$505,">="&DATE(Annee,1,1),'Transactions'!$A$6:$A$505,"<"&DATE(Annee+1,1,1))) | D12: =IF($B12="","",SUMIFS('Transactions'!$D$6:$D$505,'Transactions'!$B$6:$B$505,$B12,'Transactions'!$F$6:$F$505,"Expense",'Transactions'!$A$6:$A$505,">="&DATE(Annee,1,1),'Transactions'!$A$6:$A$505,"<"&DATE(Annee+1,1,1))) | E12: =IF($B12="","",C12-D12) | F12: =IF($B12="","",COUNTIF(C36:N36,">0"))
B13: =IF('Properties'!$A$9="","",'Properties'!$A$9) | C13: =IF($B13="","",SUMIFS('Transactions'!$D$6:$D$505,'Transactions'!$B$6:$B$505,$B13,'Transactions'!$F$6:$F$505,"Income",'Transactions'!$A$6:$A$505,">="&DATE(Annee,1,1),'Transactions'!$A$6:$A$505,"<"&DATE(Annee+1,1,1))) | D13: =IF($B13="","",SUMIFS('Transactions'!$D$6:$D$505,'Transactions'!$B$6:$B$505,$B13,'Transactions'!$F$6:$F$505,"Expense",'Transactions'!$A$6:$A$505,">="&DATE(Annee,1,1),'Transactions'!$A$6:$A$505,"<"&DATE(Annee+1,1,1))) | E13: =IF($B13="","",C13-D13) | F13: =IF($B13="","",COUNTIF(C37:N37,">0"))
B14: =IF('Properties'!$A$10="","",'Properties'!$A$10) | C14: =IF($B14="","",SUMIFS('Transactions'!$D$6:$D$505,'Transactions'!$B$6:$B$505,$B14,'Transactions'!$F$6:$F$505,"Income",'Transactions'!$A$6:$A$505,">="&DATE(Annee,1,1),'Transactions'!$A$6:$A$505,"<"&DATE(Annee+1,1,1))) | D14: =IF($B14="","",SUMIFS('Transactions'!$D$6:$D$505,'Transactions'!$B$6:$B$505,$B14,'Transactions'!$F$6:$F$505,"Expense",'Transactions'!$A$6:$A$505,">="&DATE(Annee,1,1),'Transactions'!$A$6:$A$505,"<"&DATE(Annee+1,1,1))) | E14: =IF($B14="","",C14-D14) | F14: =IF($B14="","",COUNTIF(C38:N38,">0"))
B15: =IF('Properties'!$A$11="","",'Properties'!$A$11) | C15: =IF($B15="","",SUMIFS('Transactions'!$D$6:$D$505,'Transactions'!$B$6:$B$505,$B15,'Transactions'!$F$6:$F$505,"Income",'Transactions'!$A$6:$A$505,">="&DATE(Annee,1,1),'Transactions'!$A$6:$A$505,"<"&DATE(Annee+1,1,1))) | D15: =IF($B15="","",SUMIFS('Transactions'!$D$6:$D$505,'Transactions'!$B$6:$B$505,$B15,'Transactions'!$F$6:$F$505,"Expense",'Transactions'!$A$6:$A$505,">="&DATE(Annee,1,1),'Transactions'!$A$6:$A$505,"<"&DATE(Annee+1,1,1))) | E15: =IF($B15="","",C15-D15) | F15: =IF($B15="","",COUNTIF(C39:N39,">0"))
B16: =IF('Properties'!$A$12="","",'Properties'!$A$12) | C16: =IF($B16="","",SUMIFS('Transactions'!$D$6:$D$505,'Transactions'!$B$6:$B$505,$B16,'Transactions'!$F$6:$F$505,"Income",'Transactions'!$A$6:$A$505,">="&DATE(Annee,1,1),'Transactions'!$A$6:$A$505,"<"&DATE(Annee+1,1,1))) | D16: =IF($B16="","",SUMIFS('Transactions'!$D$6:$D$505,'Transactions'!$B$6:$B$505,$B16,'Transactions'!$F$6:$F$505,"Expense",'Transactions'!$A$6:$A$505,">="&DATE(Annee,1,1),'Transactions'!$A$6:$A$505,"<"&DATE(Annee+1,1,1))) | E16: =IF($B16="","",C16-D16) | F16: =IF($B16="","",COUNTIF(C40:N40,">0"))
B17: =IF('Properties'!$A$13="","",'Properties'!$A$13) | C17: =IF($B17="","",SUMIFS('Transactions'!$D$6:$D$505,'Transactions'!$B$6:$B$505,$B17,'Transactions'!$F$6:$F$505,"Income",'Transactions'!$A$6:$A$505,">="&DATE(Annee,1,1),'Transactions'!$A$6:$A$505,"<"&DATE(Annee+1,1,1))) | D17: =IF($B17="","",SUMIFS('Transactions'!$D$6:$D$505,'Transactions'!$B$6:$B$505,$B17,'Transactions'!$F$6:$F$505,"Expense",'Transactions'!$A$6:$A$505,">="&DATE(Annee,1,1),'Transactions'!$A$6:$A$505,"<"&DATE(Annee+1,1,1))) | E17: =IF($B17="","",C17-D17) | F17: =IF($B17="","",COUNTIF(C41:N41,">0"))
B18: =IF('Properties'!$A$14="","",'Properties'!$A$14) | C18: =IF($B18="","",SUMIFS('Transactions'!$D$6:$D$505,'Transactions'!$B$6:$B$505,$B18,'Transactions'!$F$6:$F$505,"Income",'Transactions'!$A$6:$A$505,">="&DATE(Annee,1,1),'Transactions'!$A$6:$A$505,"<"&DATE(Annee+1,1,1))) | D18: =IF($B18="","",SUMIFS('Transactions'!$D$6:$D$505,'Transactions'!$B$6:$B$505,$B18,'Transactions'!$F$6:$F$505,"Expense",'Transactions'!$A$6:$A$505,">="&DATE(Annee,1,1),'Transactions'!$A$6:$A$505,"<"&DATE(Annee+1,1,1))) | E18: =IF($B18="","",C18-D18) | F18: =IF($B18="","",COUNTIF(C42:N42,">0"))
B19: =IF('Properties'!$A$15="","",'Properties'!$A$15) | C19: =IF($B19="","",SUMIFS('Transactions'!$D$6:$D$505,'Transactions'!$B$6:$B$505,$B19,'Transactions'!$F$6:$F$505,"Income",'Transactions'!$A$6:$A$505,">="&DATE(Annee,1,1),'Transactions'!$A$6:$A$505,"<"&DATE(Annee+1,1,1))) | D19: =IF($B19="","",SUMIFS('Transactions'!$D$6:$D$505,'Transactions'!$B$6:$B$505,$B19,'Transactions'!$F$6:$F$505,"Expense",'Transactions'!$A$6:$A$505,">="&DATE(Annee,1,1),'Transactions'!$A$6:$A$505,"<"&DATE(Annee+1,1,1))) | E19: =IF($B19="","",C19-D19) | F19: =IF($B19="","",COUNTIF(C43:N43,">0"))
B20: =IF('Properties'!$A$16="","",'Properties'!$A$16) | C20: =IF($B20="","",SUMIFS('Transactions'!$D$6:$D$505,'Transactions'!$B$6:$B$505,$B20,'Transactions'!$F$6:$F$505,"Income",'Transactions'!$A$6:$A$505,">="&DATE(Annee,1,1),'Transactions'!$A$6:$A$505,"<"&DATE(Annee+1,1,1))) | D20: =IF($B20="","",SUMIFS('Transactions'!$D$6:$D$505,'Transactions'!$B$6:$B$505,$B20,'Transactions'!$F$6:$F$505,"Expense",'Transactions'!$A$6:$A$505,">="&DATE(Annee,1,1),'Transactions'!$A$6:$A$505,"<"&DATE(Annee+1,1,1))) | E20: =IF($B20="","",C20-D20) | F20: =IF($B20="","",COUNTIF(C44:N44,">0"))
B21: =IF('Properties'!$A$17="","",'Properties'!$A$17) | C21: =IF($B21="","",SUMIFS('Transactions'!$D$6:$D$505,'Transactions'!$B$6:$B$505,$B21,'Transactions'!$F$6:$F$505,"Income",'Transactions'!$A$6:$A$505,">="&DATE(Annee,1,1),'Transactions'!$A$6:$A$505,"<"&DATE(Annee+1,1,1))) | D21: =IF($B21="","",SUMIFS('Transactions'!$D$6:$D$505,'Transactions'!$B$6:$B$505,$B21,'Transactions'!$F$6:$F$505,"Expense",'Transactions'!$A$6:$A$505,">="&DATE(Annee,1,1),'Transactions'!$A$6:$A$505,"<"&DATE(Annee+1,1,1))) | E21: =IF($B21="","",C21-D21) | F21: =IF($B21="","",COUNTIF(C45:N45,">0"))
B22: =IF('Properties'!$A$18="","",'Properties'!$A$18) | C22: =IF($B22="","",SUMIFS('Transactions'!$D$6:$D$505,'Transactions'!$B$6:$B$505,$B22,'Transactions'!$F$6:$F$505,"Income",'Transactions'!$A$6:$A$505,">="&DATE(Annee,1,1),'Transactions'!$A$6:$A$505,"<"&DATE(Annee+1,1,1))) | D22: =IF($B22="","",SUMIFS('Transactions'!$D$6:$D$505,'Transactions'!$B$6:$B$505,$B22,'Transactions'!$F$6:$F$505,"Expense",'Transactions'!$A$6:$A$505,">="&DATE(Annee,1,1),'Transactions'!$A$6:$A$505,"<"&DATE(Annee+1,1,1))) | E22: =IF($B22="","",C22-D22) | F22: =IF($B22="","",COUNTIF(C46:N46,">0"))
B23: =IF('Properties'!$A$19="","",'Properties'!$A$19) | C23: =IF($B23="","",SUMIFS('Transactions'!$D$6:$D$505,'Transactions'!$B$6:$B$505,$B23,'Transactions'!$F$6:$F$505,"Income",'Transactions'!$A$6:$A$505,">="&DATE(Annee,1,1),'Transactions'!$A$6:$A$505,"<"&DATE(Annee+1,1,1))) | D23: =IF($B23="","",SUMIFS('Transactions'!$D$6:$D$505,'Transactions'!$B$6:$B$505,$B23,'Transactions'!$F$6:$F$505,"Expense",'Transactions'!$A$6:$A$505,">="&DATE(Annee,1,1),'Transactions'!$A$6:$A$505,"<"&DATE(Annee+1,1,1))) | E23: =IF($B23="","",C23-D23) | F23: =IF($B23="","",COUNTIF(C47:N47,">0"))
B24: =IF('Properties'!$A$20="","",'Properties'!$A$20) | C24: =IF($B24="","",SUMIFS('Transactions'!$D$6:$D$505,'Transactions'!$B$6:$B$505,$B24,'Transactions'!$F$6:$F$505,"Income",'Transactions'!$A$6:$A$505,">="&DATE(Annee,1,1),'Transactions'!$A$6:$A$505,"<"&DATE(Annee+1,1,1))) | D24: =IF($B24="","",SUMIFS('Transactions'!$D$6:$D$505,'Transactions'!$B$6:$B$505,$B24,'Transactions'!$F$6:$F$505,"Expense",'Transactions'!$A$6:$A$505,">="&DATE(Annee,1,1),'Transactions'!$A$6:$A$505,"<"&DATE(Annee+1,1,1))) | E24: =IF($B24="","",C24-D24) | F24: =IF($B24="","",COUNTIF(C48:N48,">0"))
B25: =IF('Properties'!$A$21="","",'Properties'!$A$21) | C25: =IF($B25="","",SUMIFS('Transactions'!$D$6:$D$505,'Transactions'!$B$6:$B$505,$B25,'Transactions'!$F$6:$F$505,"Income",'Transactions'!$A$6:$A$505,">="&DATE(Annee,1,1),'Transactions'!$A$6:$A$505,"<"&DATE(Annee+1,1,1))) | D25: =IF($B25="","",SUMIFS('Transactions'!$D$6:$D$505,'Transactions'!$B$6:$B$505,$B25,'Transactions'!$F$6:$F$505,"Expense",'Transactions'!$A$6:$A$505,">="&DATE(Annee,1,1),'Transactions'!$A$6:$A$505,"<"&DATE(Annee+1,1,1))) | E25: =IF($B25="","",C25-D25) | F25: =IF($B25="","",COUNTIF(C49:N49,">0"))
B26: =IF('Properties'!$A$22="","",'Properties'!$A$22) | C26: =IF($B26="","",SUMIFS('Transactions'!$D$6:$D$505,'Transactions'!$B$6:$B$505,$B26,'Transactions'!$F$6:$F$505,"Income",'Transactions'!$A$6:$A$505,">="&DATE(Annee,1,1),'Transactions'!$A$6:$A$505,"<"&DATE(Annee+1,1,1))) | D26: =IF($B26="","",SUMIFS('Transactions'!$D$6:$D$505,'Transactions'!$B$6:$B$505,$B26,'Transactions'!$F$6:$F$505,"Expense",'Transactions'!$A$6:$A$505,">="&DATE(Annee,1,1),'Transactions'!$A$6:$A$505,"<"&DATE(Annee+1,1,1))) | E26: =IF($B26="","",C26-D26) | F26: =IF($B26="","",COUNTIF(C50:N50,">0"))
B27: =IF('Properties'!$A$23="","",'Properties'!$A$23) | C27: =IF($B27="","",SUMIFS('Transactions'!$D$6:$D$505,'Transactions'!$B$6:$B$505,$B27,'Transactions'!$F$6:$F$505,"Income",'Transactions'!$A$6:$A$505,">="&DATE(Annee,1,1),'Transactions'!$A$6:$A$505,"<"&DATE(Annee+1,1,1))) | D27: =IF($B27="","",SUMIFS('Transactions'!$D$6:$D$505,'Transactions'!$B$6:$B$505,$B27,'Transactions'!$F$6:$F$505,"Expense",'Transactions'!$A$6:$A$505,">="&DATE(Annee,1,1),'Transactions'!$A$6:$A$505,"<"&DATE(Annee+1,1,1))) | E27: =IF($B27="","",C27-D27) | F27: =IF($B27="","",COUNTIF(C51:N51,">0"))
B28: =IF('Properties'!$A$24="","",'Properties'!$A$24) | C28: =IF($B28="","",SUMIFS('Transactions'!$D$6:$D$505,'Transactions'!$B$6:$B$505,$B28,'Transactions'!$F$6:$F$505,"Income",'Transactions'!$A$6:$A$505,">="&DATE(Annee,1,1),'Transactions'!$A$6:$A$505,"<"&DATE(Annee+1,1,1))) | D28: =IF($B28="","",SUMIFS('Transactions'!$D$6:$D$505,'Transactions'!$B$6:$B$505,$B28,'Transactions'!$F$6:$F$505,"Expense",'Transactions'!$A$6:$A$505,">="&DATE(Annee,1,1),'Transactions'!$A$6:$A$505,"<"&DATE(Annee+1,1,1))) | E28: =IF($B28="","",C28-D28) | F28: =IF($B28="","",COUNTIF(C52:N52,">0"))
B29: =IF('Properties'!$A$25="","",'Properties'!$A$25) | C29: =IF($B29="","",SUMIFS('Transactions'!$D$6:$D$505,'Transactions'!$B$6:$B$505,$B29,'Transactions'!$F$6:$F$505,"Income",'Transactions'!$A$6:$A$505,">="&DATE(Annee,1,1),'Transactions'!$A$6:$A$505,"<"&DATE(Annee+1,1,1))) | D29: =IF($B29="","",SUMIFS('Transactions'!$D$6:$D$505,'Transactions'!$B$6:$B$505,$B29,'Transactions'!$F$6:$F$505,"Expense",'Transactions'!$A$6:$A$505,">="&DATE(Annee,1,1),'Transactions'!$A$6:$A$505,"<"&DATE(Annee+1,1,1))) | E29: =IF($B29="","",C29-D29) | F29: =IF($B29="","",COUNTIF(C53:N53,">0"))
B30: All properties | C30: =SUM(C10:C29) | D30: =SUM(D10:D29) | E30: =SUM(E10:E29)
B32: Rent received, month by month
B33: Property | C33: Jan | D33: Feb | E33: Mar | F33: Apr | G33: May | H33: Jun | I33: Jul | J33: Aug | K33: Sep | L33: Oct | M33: Nov | N33: Dec
B34: =B10 | C34: =IF($B34="","",SUMIFS('Transactions'!$D$6:$D$505,'Transactions'!$B$6:$B$505,$B34,'Transactions'!$C$6:$C$505,"Rent received",'Transactions'!$A$6:$A$505,">="&DATE(Annee,1,1),'Transactions'!$A$6:$A$505,"<"&EDATE(DATE(Annee,1,1),1))) | D34: =IF($B34="","",SUMIFS('Transactions'!$D$6:$D$505,'Transactions'!$B$6:$B$505,$B34,'Transactions'!$C$6:$C$505,"Rent received",'Transactions'!$A$6:$A$505,">="&DATE(Annee,2,1),'Transactions'!$A$6:$A$505,"<"&EDATE(DATE(Annee,2,1),1))) | E34: =IF($B34="","",SUMIFS('Transactions'!$D$6:$D$505,'Transactions'!$B$6:$B$505,$B34,'Transactions'!$C$6:$C$505,"Rent received",'Transactions'!$A$6:$A$505,">="&DATE(Annee,3,1),'Transactions'!$A$6:$A$505,"<"&EDATE(DATE(Annee,3,1),1))) | F34: =IF($B34="","",SUMIFS('Transactions'!$D$6:$D$505,'Transactions'!$B$6:$B$505,$B34,'Transactions'!$C$6:$C$505,"Rent received",'Transactions'!$A$6:$A$505,">="&DATE(Annee,4,1),'Transactions'!$A$6:$A$505,"<"&EDATE(DATE(Annee,4,1),1))) | G34: =IF($B34="","",SUMIFS('Transactions'!$D$6:$D$505,'Transactions'!$B$6:$B$505,$B34,'Transactions'!$C$6:$C$505,"Rent received",'Transactions'!$A$6:$A$505,">="&DATE(Annee,5,1),'Transactions'!$A$6:$A$505,"<"&EDATE(DATE(Annee,5,1),1))) | H34: =IF($B34="","",SUMIFS('Transactions'!$D$6:$D$505,'Transactions'!$B$6:$B$505,$B34,'Transactions'!$C$6:$C$505,"Rent received",'Transactions'!$A$6:$A$505,">="&DATE(Annee,6,1),'Transactions'!$A$6:$A$505,"<"&EDATE(DATE(Annee,6,1),1))) | I34: =IF($B34="","",SUMIFS('Transactions'!$D$6:$D$505,'Transactions'!$B$6:$B$505,$B34,'Transactions'!$C$6:$C$505,"Rent received",'Transactions'!$A$6:$A$505,">="&DATE(Annee,7,1),'Transactions'!$A$6:$A$505,"<"&EDATE(DATE(Annee,7,1),1))) | J34: =IF($B34="","",SUMIFS('Transactions'!$D$6:$D$505,'Transactions'!$B$6:$B$505,$B34,'Transactions'!$C$6:$C$505,"Rent received",'Transactions'!$A$6:$A$505,">="&DATE(Annee,8,1),'Transactions'!$A$6:$A$505,"<"&EDATE(DATE(Annee,8,1),1))) | K34: =IF($B34="","",SUMIFS('Transactions'!$D$6:$D$505,'Transactions'!$B$6:$B$505,$B34,'Transactions'!$C$6:$C$505,"Rent received",'Transactions'!$A$6:$A$505,">="&DATE(Annee,9,1),'Transactions'!$A$6:$A$505,"<"&EDATE(DATE(Annee,9,1),1))) | L34: =IF($B34="","",SUMIFS('Transactions'!$D$6:$D$505,'Transactions'!$B$6:$B$505,$B34,'Transactions'!$C$6:$C$505,"Rent received",'Transactions'!$A$6:$A$505,">="&DATE(Annee,10,1),'Transactions'!$A$6:$A$505,"<"&EDATE(DATE(Annee,10,1),1))) | M34: =IF($B34="","",SUMIFS('Transactions'!$D$6:$D$505,'Transactions'!$B$6:$B$505,$B34,'Transactions'!$C$6:$C$505,"Rent received",'Transactions'!$A$6:$A$505,">="&DATE(Annee,11,1),'Transactions'!$A$6:$A$505,"<"&EDATE(DATE(Annee,11,1),1))) | N34: =IF($B34="","",SUMIFS('Transactions'!$D$6:$D$505,'Transactions'!$B$6:$B$505,$B34,'Transactions'!$C$6:$C$505,"Rent received",'Transactions'!$A$6:$A$505,">="&DATE(Annee,12,1),'Transactions'!$A$6:$A$505,"<"&EDATE(DATE(Annee,12,1),1)))
B35: =B11 | C35: =IF($B35="","",SUMIFS('Transactions'!$D$6:$D$505,'Transactions'!$B$6:$B$505,$B35,'Transactions'!$C$6:$C$505,"Rent received",'Transactions'!$A$6:$A$505,">="&DATE(Annee,1,1),'Transactions'!$A$6:$A$505,"<"&EDATE(DATE(Annee,1,1),1))) | D35: =IF($B35="","",SUMIFS('Transactions'!$D$6:$D$505,'Transactions'!$B$6:$B$505,$B35,'Transactions'!$C$6:$C$505,"Rent received",'Transactions'!$A$6:$A$505,">="&DATE(Annee,2,1),'Transactions'!$A$6:$A$505,"<"&EDATE(DATE(Annee,2,1),1))) | E35: =IF($B35="","",SUMIFS('Transactions'!$D$6:$D$505,'Transactions'!$B$6:$B$505,$B35,'Transactions'!$C$6:$C$505,"Rent received",'Transactions'!$A$6:$A$505,">="&DATE(Annee,3,1),'Transactions'!$A$6:$A$505,"<"&EDATE(DATE(Annee,3,1),1))) | F35: =IF($B35="","",SUMIFS('Transactions'!$D$6:$D$505,'Transactions'!$B$6:$B$505,$B35,'Transactions'!$C$6:$C$505,"Rent received",'Transactions'!$A$6:$A$505,">="&DATE(Annee,4,1),'Transactions'!$A$6:$A$505,"<"&EDATE(DATE(Annee,4,1),1))) | G35: =IF($B35="","",SUMIFS('Transactions'!$D$6:$D$505,'Transactions'!$B$6:$B$505,$B35,'Transactions'!$C$6:$C$505,"Rent received",'Transactions'!$A$6:$A$505,">="&DATE(Annee,5,1),'Transactions'!$A$6:$A$505,"<"&EDATE(DATE(Annee,5,1),1))) | H35: =IF($B35="","",SUMIFS('Transactions'!$D$6:$D$505,'Transactions'!$B$6:$B$505,$B35,'Transactions'!$C$6:$C$505,"Rent received",'Transactions'!$A$6:$A$505,">="&DATE(Annee,6,1),'Transactions'!$A$6:$A$505,"<"&EDATE(DATE(Annee,6,1),1))) | I35: =IF($B35="","",SUMIFS('Transactions'!$D$6:$D$505,'Transactions'!$B$6:$B$505,$B35,'Transactions'!$C$6:$C$505,"Rent received",'Transactions'!$A$6:$A$505,">="&DATE(Annee,7,1),'Transactions'!$A$6:$A$505,"<"&EDATE(DATE(Annee,7,1),1))) | J35: =IF($B35="","",SUMIFS('Transactions'!$D$6:$D$505,'Transactions'!$B$6:$B$505,$B35,'Transactions'!$C$6:$C$505,"Rent received",'Transactions'!$A$6:$A$505,">="&DATE(Annee,8,1),'Transactions'!$A$6:$A$505,"<"&EDATE(DATE(Annee,8,1),1))) | K35: =IF($B35="","",SUMIFS('Transactions'!$D$6:$D$505,'Transactions'!$B$6:$B$505,$B35,'Transactions'!$C$6:$C$505,"Rent received",'Transactions'!$A$6:$A$505,">="&DATE(Annee,9,1),'Transactions'!$A$6:$A$505,"<"&EDATE(DATE(Annee,9,1),1))) | L35: =IF($B35="","",SUMIFS('Transactions'!$D$6:$D$505,'Transactions'!$B$6:$B$505,$B35,'Transactions'!$C$6:$C$505,"Rent received",'Transactions'!$A$6:$A$505,">="&DATE(Annee,10,1),'Transactions'!$A$6:$A$505,"<"&EDATE(DATE(Annee,10,1),1))) | M35: =IF($B35="","",SUMIFS('Transactions'!$D$6:$D$505,'Transactions'!$B$6:$B$505,$B35,'Transactions'!$C$6:$C$505,"Rent received",'Transactions'!$A$6:$A$505,">="&DATE(Annee,11,1),'Transactions'!$A$6:$A$505,"<"&EDATE(DATE(Annee,11,1),1))) | N35: =IF($B35="","",SUMIFS('Transactions'!$D$6:$D$505,'Transactions'!$B$6:$B$505,$B35,'Transactions'!$C$6:$C$505,"Rent received",'Transactions'!$A$6:$A$505,">="&DATE(Annee,12,1),'Transactions'!$A$6:$A$505,"<"&EDATE(DATE(Annee,12,1),1)))
B36: =B12 | C36: =IF($B36="","",SUMIFS('Transactions'!$D$6:$D$505,'Transactions'!$B$6:$B$505,$B36,'Transactions'!$C$6:$C$505,"Rent received",'Transactions'!$A$6:$A$505,">="&DATE(Annee,1,1),'Transactions'!$A$6:$A$505,"<"&EDATE(DATE(Annee,1,1),1))) | D36: =IF($B36="","",SUMIFS('Transactions'!$D$6:$D$505,'Transactions'!$B$6:$B$505,$B36,'Transactions'!$C$6:$C$505,"Rent received",'Transactions'!$A$6:$A$505,">="&DATE(Annee,2,1),'Transactions'!$A$6:$A$505,"<"&EDATE(DATE(Annee,2,1),1))) | E36: =IF($B36="","",SUMIFS('Transactions'!$D$6:$D$505,'Transactions'!$B$6:$B$505,$B36,'Transactions'!$C$6:$C$505,"Rent received",'Transactions'!$A$6:$A$505,">="&DATE(Annee,3,1),'Transactions'!$A$6:$A$505,"<"&EDATE(DATE(Annee,3,1),1))) | F36: =IF($B36="","",SUMIFS('Transactions'!$D$6:$D$505,'Transactions'!$B$6:$B$505,$B36,'Transactions'!$C$6:$C$505,"Rent received",'Transactions'!$A$6:$A$505,">="&DATE(Annee,4,1),'Transactions'!$A$6:$A$505,"<"&EDATE(DATE(Annee,4,1),1))) | G36: =IF($B36="","",SUMIFS('Transactions'!$D$6:$D$505,'Transactions'!$B$6:$B$505,$B36,'Transactions'!$C$6:$C$505,"Rent received",'Transactions'!$A$6:$A$505,">="&DATE(Annee,5,1),'Transactions'!$A$6:$A$505,"<"&EDATE(DATE(Annee,5,1),1))) | H36: =IF($B36="","",SUMIFS('Transactions'!$D$6:$D$505,'Transactions'!$B$6:$B$505,$B36,'Transactions'!$C$6:$C$505,"Rent received",'Transactions'!$A$6:$A$505,">="&DATE(Annee,6,1),'Transactions'!$A$6:$A$505,"<"&EDATE(DATE(Annee,6,1),1))) | I36: =IF($B36="","",SUMIFS('Transactions'!$D$6:$D$505,'Transactions'!$B$6:$B$505,$B36,'Transactions'!$C$6:$C$505,"Rent received",'Transactions'!$A$6:$A$505,">="&DATE(Annee,7,1),'Transactions'!$A$6:$A$505,"<"&EDATE(DATE(Annee,7,1),1))) | J36: =IF($B36="","",SUMIFS('Transactions'!$D$6:$D$505,'Transactions'!$B$6:$B$505,$B36,'Transactions'!$C$6:$C$505,"Rent received",'Transactions'!$A$6:$A$505,">="&DATE(Annee,8,1),'Transactions'!$A$6:$A$505,"<"&EDATE(DATE(Annee,8,1),1))) | K36: =IF($B36="","",SUMIFS('Transactions'!$D$6:$D$505,'Transactions'!$B$6:$B$505,$B36,'Transactions'!$C$6:$C$505,"Rent received",'Transactions'!$A$6:$A$505,">="&DATE(Annee,9,1),'Transactions'!$A$6:$A$505,"<"&EDATE(DATE(Annee,9,1),1))) | L36: =IF($B36="","",SUMIFS('Transactions'!$D$6:$D$505,'Transactions'!$B$6:$B$505,$B36,'Transactions'!$C$6:$C$505,"Rent received",'Transactions'!$A$6:$A$505,">="&DATE(Annee,10,1),'Transactions'!$A$6:$A$505,"<"&EDATE(DATE(Annee,10,1),1))) | M36: =IF($B36="","",SUMIFS('Transactions'!$D$6:$D$505,'Transactions'!$B$6:$B$505,$B36,'Transactions'!$C$6:$C$505,"Rent received",'Transactions'!$A$6:$A$505,">="&DATE(Annee,11,1),'Transactions'!$A$6:$A$505,"<"&EDATE(DATE(Annee,11,1),1))) | N36: =IF($B36="","",SUMIFS('Transactions'!$D$6:$D$505,'Transactions'!$B$6:$B$505,$B36,'Transactions'!$C$6:$C$505,"Rent received",'Transactions'!$A$6:$A$505,">="&DATE(Annee,12,1),'Transactions'!$A$6:$A$505,"<"&EDATE(DATE(Annee,12,1),1)))
B37: =B13 | C37: =IF($B37="","",SUMIFS('Transactions'!$D$6:$D$505,'Transactions'!$B$6:$B$505,$B37,'Transactions'!$C$6:$C$505,"Rent received",'Transactions'!$A$6:$A$505,">="&DATE(Annee,1,1),'Transactions'!$A$6:$A$505,"<"&EDATE(DATE(Annee,1,1),1))) | D37: =IF($B37="","",SUMIFS('Transactions'!$D$6:$D$505,'Transactions'!$B$6:$B$505,$B37,'Transactions'!$C$6:$C$505,"Rent received",'Transactions'!$A$6:$A$505,">="&DATE(Annee,2,1),'Transactions'!$A$6:$A$505,"<"&EDATE(DATE(Annee,2,1),1))) | E37: =IF($B37="","",SUMIFS('Transactions'!$D$6:$D$505,'Transactions'!$B$6:$B$505,$B37,'Transactions'!$C$6:$C$505,"Rent received",'Transactions'!$A$6:$A$505,">="&DATE(Annee,3,1),'Transactions'!$A$6:$A$505,"<"&EDATE(DATE(Annee,3,1),1))) | F37: =IF($B37="","",SUMIFS('Transactions'!$D$6:$D$505,'Transactions'!$B$6:$B$505,$B37,'Transactions'!$C$6:$C$505,"Rent received",'Transactions'!$A$6:$A$505,">="&DATE(Annee,4,1),'Transactions'!$A$6:$A$505,"<"&EDATE(DATE(Annee,4,1),1))) | G37: =IF($B37="","",SUMIFS('Transactions'!$D$6:$D$505,'Transactions'!$B$6:$B$505,$B37,'Transactions'!$C$6:$C$505,"Rent received",'Transactions'!$A$6:$A$505,">="&DATE(Annee,5,1),'Transactions'!$A$6:$A$505,"<"&EDATE(DATE(Annee,5,1),1))) | H37: =IF($B37="","",SUMIFS('Transactions'!$D$6:$D$505,'Transactions'!$B$6:$B$505,$B37,'Transactions'!$C$6:$C$505,"Rent received",'Transactions'!$A$6:$A$505,">="&DATE(Annee,6,1),'Transactions'!$A$6:$A$505,"<"&EDATE(DATE(Annee,6,1),1))) | I37: =IF($B37="","",SUMIFS('Transactions'!$D$6:$D$505,'Transactions'!$B$6:$B$505,$B37,'Transactions'!$C$6:$C$505,"Rent received",'Transactions'!$A$6:$A$505,">="&DATE(Annee,7,1),'Transactions'!$A$6:$A$505,"<"&EDATE(DATE(Annee,7,1),1))) | J37: =IF($B37="","",SUMIFS('Transactions'!$D$6:$D$505,'Transactions'!$B$6:$B$505,$B37,'Transactions'!$C$6:$C$505,"Rent received",'Transactions'!$A$6:$A$505,">="&DATE(Annee,8,1),'Transactions'!$A$6:$A$505,"<"&EDATE(DATE(Annee,8,1),1))) | K37: =IF($B37="","",SUMIFS('Transactions'!$D$6:$D$505,'Transactions'!$B$6:$B$505,$B37,'Transactions'!$C$6:$C$505,"Rent received",'Transactions'!$A$6:$A$505,">="&DATE(Annee,9,1),'Transactions'!$A$6:$A$505,"<"&EDATE(DATE(Annee,9,1),1))) | L37: =IF($B37="","",SUMIFS('Transactions'!$D$6:$D$505,'Transactions'!$B$6:$B$505,$B37,'Transactions'!$C$6:$C$505,"Rent received",'Transactions'!$A$6:$A$505,">="&DATE(Annee,10,1),'Transactions'!$A$6:$A$505,"<"&EDATE(DATE(Annee,10,1),1))) | M37: =IF($B37="","",SUMIFS('Transactions'!$D$6:$D$505,'Transactions'!$B$6:$B$505,$B37,'Transactions'!$C$6:$C$505,"Rent received",'Transactions'!$A$6:$A$505,">="&DATE(Annee,11,1),'Transactions'!$A$6:$A$505,"<"&EDATE(DATE(Annee,11,1),1))) | N37: =IF($B37="","",SUMIFS('Transactions'!$D$6:$D$505,'Transactions'!$B$6:$B$505,$B37,'Transactions'!$C$6:$C$505,"Rent received",'Transactions'!$A$6:$A$505,">="&DATE(Annee,12,1),'Transactions'!$A$6:$A$505,"<"&EDATE(DATE(Annee,12,1),1)))
B38: =B14 | C38: =IF($B38="","",SUMIFS('Transactions'!$D$6:$D$505,'Transactions'!$B$6:$B$505,$B38,'Transactions'!$C$6:$C$505,"Rent received",'Transactions'!$A$6:$A$505,">="&DATE(Annee,1,1),'Transactions'!$A$6:$A$505,"<"&EDATE(DATE(Annee,1,1),1))) | D38: =IF($B38="","",SUMIFS('Transactions'!$D$6:$D$505,'Transactions'!$B$6:$B$505,$B38,'Transactions'!$C$6:$C$505,"Rent received",'Transactions'!$A$6:$A$505,">="&DATE(Annee,2,1),'Transactions'!$A$6:$A$505,"<"&EDATE(DATE(Annee,2,1),1))) | E38: =IF($B38="","",SUMIFS('Transactions'!$D$6:$D$505,'Transactions'!$B$6:$B$505,$B38,'Transactions'!$C$6:$C$505,"Rent received",'Transactions'!$A$6:$A$505,">="&DATE(Annee,3,1),'Transactions'!$A$6:$A$505,"<"&EDATE(DATE(Annee,3,1),1))) | F38: =IF($B38="","",SUMIFS('Transactions'!$D$6:$D$505,'Transactions'!$B$6:$B$505,$B38,'Transactions'!$C$6:$C$505,"Rent received",'Transactions'!$A$6:$A$505,">="&DATE(Annee,4,1),'Transactions'!$A$6:$A$505,"<"&EDATE(DATE(Annee,4,1),1))) | G38: =IF($B38="","",SUMIFS('Transactions'!$D$6:$D$505,'Transactions'!$B$6:$B$505,$B38,'Transactions'!$C$6:$C$505,"Rent received",'Transactions'!$A$6:$A$505,">="&DATE(Annee,5,1),'Transactions'!$A$6:$A$505,"<"&EDATE(DATE(Annee,5,1),1))) | H38: =IF($B38="","",SUMIFS('Transactions'!$D$6:$D$505,'Transactions'!$B$6:$B$505,$B38,'Transactions'!$C$6:$C$505,"Rent received",'Transactions'!$A$6:$A$505,">="&DATE(Annee,6,1),'Transactions'!$A$6:$A$505,"<"&EDATE(DATE(Annee,6,1),1))) | I38: =IF($B38="","",SUMIFS('Transactions'!$D$6:$D$505,'Transactions'!$B$6:$B$505,$B38,'Transactions'!$C$6:$C$505,"Rent received",'Transactions'!$A$6:$A$505,">="&DATE(Annee,7,1),'Transactions'!$A$6:$A$505,"<"&EDATE(DATE(Annee,7,1),1))) | J38: =IF($B38="","",SUMIFS('Transactions'!$D$6:$D$505,'Transactions'!$B$6:$B$505,$B38,'Transactions'!$C$6:$C$505,"Rent received",'Transactions'!$A$6:$A$505,">="&DATE(Annee,8,1),'Transactions'!$A$6:$A$505,"<"&EDATE(DATE(Annee,8,1),1))) | K38: =IF($B38="","",SUMIFS('Transactions'!$D$6:$D$505,'Transactions'!$B$6:$B$505,$B38,'Transactions'!$C$6:$C$505,"Rent received",'Transactions'!$A$6:$A$505,">="&DATE(Annee,9,1),'Transactions'!$A$6:$A$505,"<"&EDATE(DATE(Annee,9,1),1))) | L38: =IF($B38="","",SUMIFS('Transactions'!$D$6:$D$505,'Transactions'!$B$6:$B$505,$B38,'Transactions'!$C$6:$C$505,"Rent received",'Transactions'!$A$6:$A$505,">="&DATE(Annee,10,1),'Transactions'!$A$6:$A$505,"<"&EDATE(DATE(Annee,10,1),1))) | M38: =IF($B38="","",SUMIFS('Transactions'!$D$6:$D$505,'Transactions'!$B$6:$B$505,$B38,'Transactions'!$C$6:$C$505,"Rent received",'Transactions'!$A$6:$A$505,">="&DATE(Annee,11,1),'Transactions'!$A$6:$A$505,"<"&EDATE(DATE(Annee,11,1),1))) | N38: =IF($B38="","",SUMIFS('Transactions'!$D$6:$D$505,'Transactions'!$B$6:$B$505,$B38,'Transactions'!$C$6:$C$505,"Rent received",'Transactions'!$A$6:$A$505,">="&DATE(Annee,12,1),'Transactions'!$A$6:$A$505,"<"&EDATE(DATE(Annee,12,1),1)))
B39: =B15 | C39: =IF($B39="","",SUMIFS('Transactions'!$D$6:$D$505,'Transactions'!$B$6:$B$505,$B39,'Transactions'!$C$6:$C$505,"Rent received",'Transactions'!$A$6:$A$505,">="&DATE(Annee,1,1),'Transactions'!$A$6:$A$505,"<"&EDATE(DATE(Annee,1,1),1))) | D39: =IF($B39="","",SUMIFS('Transactions'!$D$6:$D$505,'Transactions'!$B$6:$B$505,$B39,'Transactions'!$C$6:$C$505,"Rent received",'Transactions'!$A$6:$A$505,">="&DATE(Annee,2,1),'Transactions'!$A$6:$A$505,"<"&EDATE(DATE(Annee,2,1),1))) | E39: =IF($B39="","",SUMIFS('Transactions'!$D$6:$D$505,'Transactions'!$B$6:$B$505,$B39,'Transactions'!$C$6:$C$505,"Rent received",'Transactions'!$A$6:$A$505,">="&DATE(Annee,3,1),'Transactions'!$A$6:$A$505,"<"&EDATE(DATE(Annee,3,1),1))) | F39: =IF($B39="","",SUMIFS('Transactions'!$D$6:$D$505,'Transactions'!$B$6:$B$505,$B39,'Transactions'!$C$6:$C$505,"Rent received",'Transactions'!$A$6:$A$505,">="&DATE(Annee,4,1),'Transactions'!$A$6:$A$505,"<"&EDATE(DATE(Annee,4,1),1))) | G39: =IF($B39="","",SUMIFS('Transactions'!$D$6:$D$505,'Transactions'!$B$6:$B$505,$B39,'Transactions'!$C$6:$C$505,"Rent received",'Transactions'!$A$6:$A$505,">="&DATE(Annee,5,1),'Transactions'!$A$6:$A$505,"<"&EDATE(DATE(Annee,5,1),1))) | H39: =IF($B39="","",SUMIFS('Transactions'!$D$6:$D$505,'Transactions'!$B$6:$B$505,$B39,'Transactions'!$C$6:$C$505,"Rent received",'Transactions'!$A$6:$A$505,">="&DATE(Annee,6,1),'Transactions'!$A$6:$A$505,"<"&EDATE(DATE(Annee,6,1),1))) | I39: =IF($B39="","",SUMIFS('Transactions'!$D$6:$D$505,'Transactions'!$B$6:$B$505,$B39,'Transactions'!$C$6:$C$505,"Rent received",'Transactions'!$A$6:$A$505,">="&DATE(Annee,7,1),'Transactions'!$A$6:$A$505,"<"&EDATE(DATE(Annee,7,1),1))) | J39: =IF($B39="","",SUMIFS('Transactions'!$D$6:$D$505,'Transactions'!$B$6:$B$505,$B39,'Transactions'!$C$6:$C$505,"Rent received",'Transactions'!$A$6:$A$505,">="&DATE(Annee,8,1),'Transactions'!$A$6:$A$505,"<"&EDATE(DATE(Annee,8,1),1))) | K39: =IF($B39="","",SUMIFS('Transactions'!$D$6:$D$505,'Transactions'!$B$6:$B$505,$B39,'Transactions'!$C$6:$C$505,"Rent received",'Transactions'!$A$6:$A$505,">="&DATE(Annee,9,1),'Transactions'!$A$6:$A$505,"<"&EDATE(DATE(Annee,9,1),1))) | L39: =IF($B39="","",SUMIFS('Transactions'!$D$6:$D$505,'Transactions'!$B$6:$B$505,$B39,'Transactions'!$C$6:$C$505,"Rent received",'Transactions'!$A$6:$A$505,">="&DATE(Annee,10,1),'Transactions'!$A$6:$A$505,"<"&EDATE(DATE(Annee,10,1),1))) | M39: =IF($B39="","",SUMIFS('Transactions'!$D$6:$D$505,'Transactions'!$B$6:$B$505,$B39,'Transactions'!$C$6:$C$505,"Rent received",'Transactions'!$A$6:$A$505,">="&DATE(Annee,11,1),'Transactions'!$A$6:$A$505,"<"&EDATE(DATE(Annee,11,1),1))) | N39: =IF($B39="","",SUMIFS('Transactions'!$D$6:$D$505,'Transactions'!$B$6:$B$505,$B39,'Transactions'!$C$6:$C$505,"Rent received",'Transactions'!$A$6:$A$505,">="&DATE(Annee,12,1),'Transactions'!$A$6:$A$505,"<"&EDATE(DATE(Annee,12,1),1)))
B40: =B16 | C40: =IF($B40="","",SUMIFS('Transactions'!$D$6:$D$505,'Transactions'!$B$6:$B$505,$B40,'Transactions'!$C$6:$C$505,"Rent received",'Transactions'!$A$6:$A$505,">="&DATE(Annee,1,1),'Transactions'!$A$6:$A$505,"<"&EDATE(DATE(Annee,1,1),1))) | D40: =IF($B40="","",SUMIFS('Transactions'!$D$6:$D$505,'Transactions'!$B$6:$B$505,$B40,'Transactions'!$C$6:$C$505,"Rent received",'Transactions'!$A$6:$A$505,">="&DATE(Annee,2,1),'Transactions'!$A$6:$A$505,"<"&EDATE(DATE(Annee,2,1),1))) | E40: =IF($B40="","",SUMIFS('Transactions'!$D$6:$D$505,'Transactions'!$B$6:$B$505,$B40,'Transactions'!$C$6:$C$505,"Rent received",'Transactions'!$A$6:$A$505,">="&DATE(Annee,3,1),'Transactions'!$A$6:$A$505,"<"&EDATE(DATE(Annee,3,1),1))) | F40: =IF($B40="","",SUMIFS('Transactions'!$D$6:$D$505,'Transactions'!$B$6:$B$505,$B40,'Transactions'!$C$6:$C$505,"Rent received",'Transactions'!$A$6:$A$505,">="&DATE(Annee,4,1),'Transactions'!$A$6:$A$505,"<"&EDATE(DATE(Annee,4,1),1))) | G40: =IF($B40="","",SUMIFS('Transactions'!$D$6:$D$505,'Transactions'!$B$6:$B$505,$B40,'Transactions'!$C$6:$C$505,"Rent received",'Transactions'!$A$6:$A$505,">="&DATE(Annee,5,1),'Transactions'!$A$6:$A$505,"<"&EDATE(DATE(Annee,5,1),1))) | H40: =IF($B40="","",SUMIFS('Transactions'!$D$6:$D$505,'Transactions'!$B$6:$B$505,$B40,'Transactions'!$C$6:$C$505,"Rent received",'Transactions'!$A$6:$A$505,">="&DATE(Annee,6,1),'Transactions'!$A$6:$A$505,"<"&EDATE(DATE(Annee,6,1),1))) | I40: =IF($B40="","",SUMIFS('Transactions'!$D$6:$D$505,'Transactions'!$B$6:$B$505,$B40,'Transactions'!$C$6:$C$505,"Rent received",'Transactions'!$A$6:$A$505,">="&DATE(Annee,7,1),'Transactions'!$A$6:$A$505,"<"&EDATE(DATE(Annee,7,1),1))) | J40: =IF($B40="","",SUMIFS('Transactions'!$D$6:$D$505,'Transactions'!$B$6:$B$505,$B40,'Transactions'!$C$6:$C$505,"Rent received",'Transactions'!$A$6:$A$505,">="&DATE(Annee,8,1),'Transactions'!$A$6:$A$505,"<"&EDATE(DATE(Annee,8,1),1))) | K40: =IF($B40="","",SUMIFS('Transactions'!$D$6:$D$505,'Transactions'!$B$6:$B$505,$B40,'Transactions'!$C$6:$C$505,"Rent received",'Transactions'!$A$6:$A$505,">="&DATE(Annee,9,1),'Transactions'!$A$6:$A$505,"<"&EDATE(DATE(Annee,9,1),1))) | L40: =IF($B40="","",SUMIFS('Transactions'!$D$6:$D$505,'Transactions'!$B$6:$B$505,$B40,'Transactions'!$C$6:$C$505,"Rent received",'Transactions'!$A$6:$A$505,">="&DATE(Annee,10,1),'Transactions'!$A$6:$A$505,"<"&EDATE(DATE(Annee,10,1),1))) | M40: =IF($B40="","",SUMIFS('Transactions'!$D$6:$D$505,'Transactions'!$B$6:$B$505,$B40,'Transactions'!$C$6:$C$505,"Rent received",'Transactions'!$A$6:$A$505,">="&DATE(Annee,11,1),'Transactions'!$A$6:$A$505,"<"&EDATE(DATE(Annee,11,1),1))) | N40: =IF($B40="","",SUMIFS('Transactions'!$D$6:$D$505,'Transactions'!$B$6:$B$505,$B40,'Transactions'!$C$6:$C$505,"Rent received",'Transactions'!$A$6:$A$505,">="&DATE(Annee,12,1),'Transactions'!$A$6:$A$505,"<"&EDATE(DATE(Annee,12,1),1)))
B41: =B17 | C41: =IF($B41="","",SUMIFS('Transactions'!$D$6:$D$505,'Transactions'!$B$6:$B$505,$B41,'Transactions'!$C$6:$C$505,"Rent received",'Transactions'!$A$6:$A$505,">="&DATE(Annee,1,1),'Transactions'!$A$6:$A$505,"<"&EDATE(DATE(Annee,1,1),1))) | D41: =IF($B41="","",SUMIFS('Transactions'!$D$6:$D$505,'Transactions'!$B$6:$B$505,$B41,'Transactions'!$C$6:$C$505,"Rent received",'Transactions'!$A$6:$A$505,">="&DATE(Annee,2,1),'Transactions'!$A$6:$A$505,"<"&EDATE(DATE(Annee,2,1),1))) | E41: =IF($B41="","",SUMIFS('Transactions'!$D$6:$D$505,'Transactions'!$B$6:$B$505,$B41,'Transactions'!$C$6:$C$505,"Rent received",'Transactions'!$A$6:$A$505,">="&DATE(Annee,3,1),'Transactions'!$A$6:$A$505,"<"&EDATE(DATE(Annee,3,1),1))) | F41: =IF($B41="","",SUMIFS('Transactions'!$D$6:$D$505,'Transactions'!$B$6:$B$505,$B41,'Transactions'!$C$6:$C$505,"Rent received",'Transactions'!$A$6:$A$505,">="&DATE(Annee,4,1),'Transactions'!$A$6:$A$505,"<"&EDATE(DATE(Annee,4,1),1))) | G41: =IF($B41="","",SUMIFS('Transactions'!$D$6:$D$505,'Transactions'!$B$6:$B$505,$B41,'Transactions'!$C$6:$C$505,"Rent received",'Transactions'!$A$6:$A$505,">="&DATE(Annee,5,1),'Transactions'!$A$6:$A$505,"<"&EDATE(DATE(Annee,5,1),1))) | H41: =IF($B41="","",SUMIFS('Transactions'!$D$6:$D$505,'Transactions'!$B$6:$B$505,$B41,'Transactions'!$C$6:$C$505,"Rent received",'Transactions'!$A$6:$A$505,">="&DATE(Annee,6,1),'Transactions'!$A$6:$A$505,"<"&EDATE(DATE(Annee,6,1),1))) | I41: =IF($B41="","",SUMIFS('Transactions'!$D$6:$D$505,'Transactions'!$B$6:$B$505,$B41,'Transactions'!$C$6:$C$505,"Rent received",'Transactions'!$A$6:$A$505,">="&DATE(Annee,7,1),'Transactions'!$A$6:$A$505,"<"&EDATE(DATE(Annee,7,1),1))) | J41: =IF($B41="","",SUMIFS('Transactions'!$D$6:$D$505,'Transactions'!$B$6:$B$505,$B41,'Transactions'!$C$6:$C$505,"Rent received",'Transactions'!$A$6:$A$505,">="&DATE(Annee,8,1),'Transactions'!$A$6:$A$505,"<"&EDATE(DATE(Annee,8,1),1))) | K41: =IF($B41="","",SUMIFS('Transactions'!$D$6:$D$505,'Transactions'!$B$6:$B$505,$B41,'Transactions'!$C$6:$C$505,"Rent received",'Transactions'!$A$6:$A$505,">="&DATE(Annee,9,1),'Transactions'!$A$6:$A$505,"<"&EDATE(DATE(Annee,9,1),1))) | L41: =IF($B41="","",SUMIFS('Transactions'!$D$6:$D$505,'Transactions'!$B$6:$B$505,$B41,'Transactions'!$C$6:$C$505,"Rent received",'Transactions'!$A$6:$A$505,">="&DATE(Annee,10,1),'Transactions'!$A$6:$A$505,"<"&EDATE(DATE(Annee,10,1),1))) | M41: =IF($B41="","",SUMIFS('Transactions'!$D$6:$D$505,'Transactions'!$B$6:$B$505,$B41,'Transactions'!$C$6:$C$505,"Rent received",'Transactions'!$A$6:$A$505,">="&DATE(Annee,11,1),'Transactions'!$A$6:$A$505,"<"&EDATE(DATE(Annee,11,1),1))) | N41: =IF($B41="","",SUMIFS('Transactions'!$D$6:$D$505,'Transactions'!$B$6:$B$505,$B41,'Transactions'!$C$6:$C$505,"Rent received",'Transactions'!$A$6:$A$505,">="&DATE(Annee,12,1),'Transactions'!$A$6:$A$505,"<"&EDATE(DATE(Annee,12,1),1)))
B42: =B18 | C42: =IF($B42="","",SUMIFS('Transactions'!$D$6:$D$505,'Transactions'!$B$6:$B$505,$B42,'Transactions'!$C$6:$C$505,"Rent received",'Transactions'!$A$6:$A$505,">="&DATE(Annee,1,1),'Transactions'!$A$6:$A$505,"<"&EDATE(DATE(Annee,1,1),1))) | D42: =IF($B42="","",SUMIFS('Transactions'!$D$6:$D$505,'Transactions'!$B$6:$B$505,$B42,'Transactions'!$C$6:$C$505,"Rent received",'Transactions'!$A$6:$A$505,">="&DATE(Annee,2,1),'Transactions'!$A$6:$A$505,"<"&EDATE(DATE(Annee,2,1),1))) | E42: =IF($B42="","",SUMIFS('Transactions'!$D$6:$D$505,'Transactions'!$B$6:$B$505,$B42,'Transactions'!$C$6:$C$505,"Rent received",'Transactions'!$A$6:$A$505,">="&DATE(Annee,3,1),'Transactions'!$A$6:$A$505,"<"&EDATE(DATE(Annee,3,1),1))) | F42: =IF($B42="","",SUMIFS('Transactions'!$D$6:$D$505,'Transactions'!$B$6:$B$505,$B42,'Transactions'!$C$6:$C$505,"Rent received",'Transactions'!$A$6:$A$505,">="&DATE(Annee,4,1),'Transactions'!$A$6:$A$505,"<"&EDATE(DATE(Annee,4,1),1))) | G42: =IF($B42="","",SUMIFS('Transactions'!$D$6:$D$505,'Transactions'!$B$6:$B$505,$B42,'Transactions'!$C$6:$C$505,"Rent received",'Transactions'!$A$6:$A$505,">="&DATE(Annee,5,1),'Transactions'!$A$6:$A$505,"<"&EDATE(DATE(Annee,5,1),1))) | H42: =IF($B42="","",SUMIFS('Transactions'!$D$6:$D$505,'Transactions'!$B$6:$B$505,$B42,'Transactions'!$C$6:$C$505,"Rent received",'Transactions'!$A$6:$A$505,">="&DATE(Annee,6,1),'Transactions'!$A$6:$A$505,"<"&EDATE(DATE(Annee,6,1),1))) | I42: =IF($B42="","",SUMIFS('Transactions'!$D$6:$D$505,'Transactions'!$B$6:$B$505,$B42,'Transactions'!$C$6:$C$505,"Rent received",'Transactions'!$A$6:$A$505,">="&DATE(Annee,7,1),'Transactions'!$A$6:$A$505,"<"&EDATE(DATE(Annee,7,1),1))) | J42: =IF($B42="","",SUMIFS('Transactions'!$D$6:$D$505,'Transactions'!$B$6:$B$505,$B42,'Transactions'!$C$6:$C$505,"Rent received",'Transactions'!$A$6:$A$505,">="&DATE(Annee,8,1),'Transactions'!$A$6:$A$505,"<"&EDATE(DATE(Annee,8,1),1))) | K42: =IF($B42="","",SUMIFS('Transactions'!$D$6:$D$505,'Transactions'!$B$6:$B$505,$B42,'Transactions'!$C$6:$C$505,"Rent received",'Transactions'!$A$6:$A$505,">="&DATE(Annee,9,1),'Transactions'!$A$6:$A$505,"<"&EDATE(DATE(Annee,9,1),1))) | L42: =IF($B42="","",SUMIFS('Transactions'!$D$6:$D$505,'Transactions'!$B$6:$B$505,$B42,'Transactions'!$C$6:$C$505,"Rent received",'Transactions'!$A$6:$A$505,">="&DATE(Annee,10,1),'Transactions'!$A$6:$A$505,"<"&EDATE(DATE(Annee,10,1),1))) | M42: =IF($B42="","",SUMIFS('Transactions'!$D$6:$D$505,'Transactions'!$B$6:$B$505,$B42,'Transactions'!$C$6:$C$505,"Rent received",'Transactions'!$A$6:$A$505,">="&DATE(Annee,11,1),'Transactions'!$A$6:$A$505,"<"&EDATE(DATE(Annee,11,1),1))) | N42: =IF($B42="","",SUMIFS('Transactions'!$D$6:$D$505,'Transactions'!$B$6:$B$505,$B42,'Transactions'!$C$6:$C$505,"Rent received",'Transactions'!$A$6:$A$505,">="&DATE(Annee,12,1),'Transactions'!$A$6:$A$505,"<"&EDATE(DATE(Annee,12,1),1)))
B43: =B19 | C43: =IF($B43="","",SUMIFS('Transactions'!$D$6:$D$505,'Transactions'!$B$6:$B$505,$B43,'Transactions'!$C$6:$C$505,"Rent received",'Transactions'!$A$6:$A$505,">="&DATE(Annee,1,1),'Transactions'!$A$6:$A$505,"<"&EDATE(DATE(Annee,1,1),1))) | D43: =IF($B43="","",SUMIFS('Transactions'!$D$6:$D$505,'Transactions'!$B$6:$B$505,$B43,'Transactions'!$C$6:$C$505,"Rent received",'Transactions'!$A$6:$A$505,">="&DATE(Annee,2,1),'Transactions'!$A$6:$A$505,"<"&EDATE(DATE(Annee,2,1),1))) | E43: =IF($B43="","",SUMIFS('Transactions'!$D$6:$D$505,'Transactions'!$B$6:$B$505,$B43,'Transactions'!$C$6:$C$505,"Rent received",'Transactions'!$A$6:$A$505,">="&DATE(Annee,3,1),'Transactions'!$A$6:$A$505,"<"&EDATE(DATE(Annee,3,1),1))) | F43: =IF($B43="","",SUMIFS('Transactions'!$D$6:$D$505,'Transactions'!$B$6:$B$505,$B43,'Transactions'!$C$6:$C$505,"Rent received",'Transactions'!$A$6:$A$505,">="&DATE(Annee,4,1),'Transactions'!$A$6:$A$505,"<"&EDATE(DATE(Annee,4,1),1))) | G43: =IF($B43="","",SUMIFS('Transactions'!$D$6:$D$505,'Transactions'!$B$6:$B$505,$B43,'Transactions'!$C$6:$C$505,"Rent received",'Transactions'!$A$6:$A$505,">="&DATE(Annee,5,1),'Transactions'!$A$6:$A$505,"<"&EDATE(DATE(Annee,5,1),1))) | H43: =IF($B43="","",SUMIFS('Transactions'!$D$6:$D$505,'Transactions'!$B$6:$B$505,$B43,'Transactions'!$C$6:$C$505,"Rent received",'Transactions'!$A$6:$A$505,">="&DATE(Annee,6,1),'Transactions'!$A$6:$A$505,"<"&EDATE(DATE(Annee,6,1),1))) | I43: =IF($B43="","",SUMIFS('Transactions'!$D$6:$D$505,'Transactions'!$B$6:$B$505,$B43,'Transactions'!$C$6:$C$505,"Rent received",'Transactions'!$A$6:$A$505,">="&DATE(Annee,7,1),'Transactions'!$A$6:$A$505,"<"&EDATE(DATE(Annee,7,1),1))) | J43: =IF($B43="","",SUMIFS('Transactions'!$D$6:$D$505,'Transactions'!$B$6:$B$505,$B43,'Transactions'!$C$6:$C$505,"Rent received",'Transactions'!$A$6:$A$505,">="&DATE(Annee,8,1),'Transactions'!$A$6:$A$505,"<"&EDATE(DATE(Annee,8,1),1))) | K43: =IF($B43="","",SUMIFS('Transactions'!$D$6:$D$505,'Transactions'!$B$6:$B$505,$B43,'Transactions'!$C$6:$C$505,"Rent received",'Transactions'!$A$6:$A$505,">="&DATE(Annee,9,1),'Transactions'!$A$6:$A$505,"<"&EDATE(DATE(Annee,9,1),1))) | L43: =IF($B43="","",SUMIFS('Transactions'!$D$6:$D$505,'Transactions'!$B$6:$B$505,$B43,'Transactions'!$C$6:$C$505,"Rent received",'Transactions'!$A$6:$A$505,">="&DATE(Annee,10,1),'Transactions'!$A$6:$A$505,"<"&EDATE(DATE(Annee,10,1),1))) | M43: =IF($B43="","",SUMIFS('Transactions'!$D$6:$D$505,'Transactions'!$B$6:$B$505,$B43,'Transactions'!$C$6:$C$505,"Rent received",'Transactions'!$A$6:$A$505,">="&DATE(Annee,11,1),'Transactions'!$A$6:$A$505,"<"&EDATE(DATE(Annee,11,1),1))) | N43: =IF($B43="","",SUMIFS('Transactions'!$D$6:$D$505,'Transactions'!$B$6:$B$505,$B43,'Transactions'!$C$6:$C$505,"Rent received",'Transactions'!$A$6:$A$505,">="&DATE(Annee,12,1),'Transactions'!$A$6:$A$505,"<"&EDATE(DATE(Annee,12,1),1)))
B44: =B20 | C44: =IF($B44="","",SUMIFS('Transactions'!$D$6:$D$505,'Transactions'!$B$6:$B$505,$B44,'Transactions'!$C$6:$C$505,"Rent received",'Transactions'!$A$6:$A$505,">="&DATE(Annee,1,1),'Transactions'!$A$6:$A$505,"<"&EDATE(DATE(Annee,1,1),1))) | D44: =IF($B44="","",SUMIFS('Transactions'!$D$6:$D$505,'Transactions'!$B$6:$B$505,$B44,'Transactions'!$C$6:$C$505,"Rent received",'Transactions'!$A$6:$A$505,">="&DATE(Annee,2,1),'Transactions'!$A$6:$A$505,"<"&EDATE(DATE(Annee,2,1),1))) | E44: =IF($B44="","",SUMIFS('Transactions'!$D$6:$D$505,'Transactions'!$B$6:$B$505,$B44,'Transactions'!$C$6:$C$505,"Rent received",'Transactions'!$A$6:$A$505,">="&DATE(Annee,3,1),'Transactions'!$A$6:$A$505,"<"&EDATE(DATE(Annee,3,1),1))) | F44: =IF($B44="","",SUMIFS('Transactions'!$D$6:$D$505,'Transactions'!$B$6:$B$505,$B44,'Transactions'!$C$6:$C$505,"Rent received",'Transactions'!$A$6:$A$505,">="&DATE(Annee,4,1),'Transactions'!$A$6:$A$505,"<"&EDATE(DATE(Annee,4,1),1))) | G44: =IF($B44="","",SUMIFS('Transactions'!$D$6:$D$505,'Transactions'!$B$6:$B$505,$B44,'Transactions'!$C$6:$C$505,"Rent received",'Transactions'!$A$6:$A$505,">="&DATE(Annee,5,1),'Transactions'!$A$6:$A$505,"<"&EDATE(DATE(Annee,5,1),1))) | H44: =IF($B44="","",SUMIFS('Transactions'!$D$6:$D$505,'Transactions'!$B$6:$B$505,$B44,'Transactions'!$C$6:$C$505,"Rent received",'Transactions'!$A$6:$A$505,">="&DATE(Annee,6,1),'Transactions'!$A$6:$A$505,"<"&EDATE(DATE(Annee,6,1),1))) | I44: =IF($B44="","",SUMIFS('Transactions'!$D$6:$D$505,'Transactions'!$B$6:$B$505,$B44,'Transactions'!$C$6:$C$505,"Rent received",'Transactions'!$A$6:$A$505,">="&DATE(Annee,7,1),'Transactions'!$A$6:$A$505,"<"&EDATE(DATE(Annee,7,1),1))) | J44: =IF($B44="","",SUMIFS('Transactions'!$D$6:$D$505,'Transactions'!$B$6:$B$505,$B44,'Transactions'!$C$6:$C$505,"Rent received",'Transactions'!$A$6:$A$505,">="&DATE(Annee,8,1),'Transactions'!$A$6:$A$505,"<"&EDATE(DATE(Annee,8,1),1))) | K44: =IF($B44="","",SUMIFS('Transactions'!$D$6:$D$505,'Transactions'!$B$6:$B$505,$B44,'Transactions'!$C$6:$C$505,"Rent received",'Transactions'!$A$6:$A$505,">="&DATE(Annee,9,1),'Transactions'!$A$6:$A$505,"<"&EDATE(DATE(Annee,9,1),1))) | L44: =IF($B44="","",SUMIFS('Transactions'!$D$6:$D$505,'Transactions'!$B$6:$B$505,$B44,'Transactions'!$C$6:$C$505,"Rent received",'Transactions'!$A$6:$A$505,">="&DATE(Annee,10,1),'Transactions'!$A$6:$A$505,"<"&EDATE(DATE(Annee,10,1),1))) | M44: =IF($B44="","",SUMIFS('Transactions'!$D$6:$D$505,'Transactions'!$B$6:$B$505,$B44,'Transactions'!$C$6:$C$505,"Rent received",'Transactions'!$A$6:$A$505,">="&DATE(Annee,11,1),'Transactions'!$A$6:$A$505,"<"&EDATE(DATE(Annee,11,1),1))) | N44: =IF($B44="","",SUMIFS('Transactions'!$D$6:$D$505,'Transactions'!$B$6:$B$505,$B44,'Transactions'!$C$6:$C$505,"Rent received",'Transactions'!$A$6:$A$505,">="&DATE(Annee,12,1),'Transactions'!$A$6:$A$505,"<"&EDATE(DATE(Annee,12,1),1)))
B45: =B21 | C45: =IF($B45="","",SUMIFS('Transactions'!$D$6:$D$505,'Transactions'!$B$6:$B$505,$B45,'Transactions'!$C$6:$C$505,"Rent received",'Transactions'!$A$6:$A$505,">="&DATE(Annee,1,1),'Transactions'!$A$6:$A$505,"<"&EDATE(DATE(Annee,1,1),1))) | D45: =IF($B45="","",SUMIFS('Transactions'!$D$6:$D$505,'Transactions'!$B$6:$B$505,$B45,'Transactions'!$C$6:$C$505,"Rent received",'Transactions'!$A$6:$A$505,">="&DATE(Annee,2,1),'Transactions'!$A$6:$A$505,"<"&EDATE(DATE(Annee,2,1),1))) | E45: =IF($B45="","",SUMIFS('Transactions'!$D$6:$D$505,'Transactions'!$B$6:$B$505,$B45,'Transactions'!$C$6:$C$505,"Rent received",'Transactions'!$A$6:$A$505,">="&DATE(Annee,3,1),'Transactions'!$A$6:$A$505,"<"&EDATE(DATE(Annee,3,1),1))) | F45: =IF($B45="","",SUMIFS('Transactions'!$D$6:$D$505,'Transactions'!$B$6:$B$505,$B45,'Transactions'!$C$6:$C$505,"Rent received",'Transactions'!$A$6:$A$505,">="&DATE(Annee,4,1),'Transactions'!$A$6:$A$505,"<"&EDATE(DATE(Annee,4,1),1))) | G45: =IF($B45="","",SUMIFS('Transactions'!$D$6:$D$505,'Transactions'!$B$6:$B$505,$B45,'Transactions'!$C$6:$C$505,"Rent received",'Transactions'!$A$6:$A$505,">="&DATE(Annee,5,1),'Transactions'!$A$6:$A$505,"<"&EDATE(DATE(Annee,5,1),1))) | H45: =IF($B45="","",SUMIFS('Transactions'!$D$6:$D$505,'Transactions'!$B$6:$B$505,$B45,'Transactions'!$C$6:$C$505,"Rent received",'Transactions'!$A$6:$A$505,">="&DATE(Annee,6,1),'Transactions'!$A$6:$A$505,"<"&EDATE(DATE(Annee,6,1),1))) | I45: =IF($B45="","",SUMIFS('Transactions'!$D$6:$D$505,'Transactions'!$B$6:$B$505,$B45,'Transactions'!$C$6:$C$505,"Rent received",'Transactions'!$A$6:$A$505,">="&DATE(Annee,7,1),'Transactions'!$A$6:$A$505,"<"&EDATE(DATE(Annee,7,1),1))) | J45: =IF($B45="","",SUMIFS('Transactions'!$D$6:$D$505,'Transactions'!$B$6:$B$505,$B45,'Transactions'!$C$6:$C$505,"Rent received",'Transactions'!$A$6:$A$505,">="&DATE(Annee,8,1),'Transactions'!$A$6:$A$505,"<"&EDATE(DATE(Annee,8,1),1))) | K45: =IF($B45="","",SUMIFS('Transactions'!$D$6:$D$505,'Transactions'!$B$6:$B$505,$B45,'Transactions'!$C$6:$C$505,"Rent received",'Transactions'!$A$6:$A$505,">="&DATE(Annee,9,1),'Transactions'!$A$6:$A$505,"<"&EDATE(DATE(Annee,9,1),1))) | L45: =IF($B45="","",SUMIFS('Transactions'!$D$6:$D$505,'Transactions'!$B$6:$B$505,$B45,'Transactions'!$C$6:$C$505,"Rent received",'Transactions'!$A$6:$A$505,">="&DATE(Annee,10,1),'Transactions'!$A$6:$A$505,"<"&EDATE(DATE(Annee,10,1),1))) | M45: =IF($B45="","",SUMIFS('Transactions'!$D$6:$D$505,'Transactions'!$B$6:$B$505,$B45,'Transactions'!$C$6:$C$505,"Rent received",'Transactions'!$A$6:$A$505,">="&DATE(Annee,11,1),'Transactions'!$A$6:$A$505,"<"&EDATE(DATE(Annee,11,1),1))) | N45: =IF($B45="","",SUMIFS('Transactions'!$D$6:$D$505,'Transactions'!$B$6:$B$505,$B45,'Transactions'!$C$6:$C$505,"Rent received",'Transactions'!$A$6:$A$505,">="&DATE(Annee,12,1),'Transactions'!$A$6:$A$505,"<"&EDATE(DATE(Annee,12,1),1)))
...

Sheet Lists
A1: Type | B1: Side
A2: Rent received | B2: Income
A3: Other income | B3: Income
A4: Property tax (taxe foncière) | B4: Expense
A5: Service charges | B5: Expense
A6: Insurance | B6: Expense
A7: Works and maintenance | B7: Expense
A8: Management fees | B8: Expense
A9: Loan interest | B9: Expense
A10: Other expense | B10: Expense
