Workbook
Name Biens: 'Inmuebles'!$A$6:$A$25
Name Annee: 'Resumen'!$C$6

Sheet Léame
B2: Plantilla de gestión del alquiler
B3: por Patrice · mypatrice.com
B6: Sus inmuebles alquilados, sus alquileres y su rentabilidad
B7: Una pestaña para sus inmuebles y otra para sus alquileres y gastos; el libro calcula la rentabilidad bruta y neta, el flujo de caja y el resultado del año por inmueble, y detecta los alquileres no cobrados.
B9: Instrucciones
B10: 1. Pestaña «Inmuebles»: una fila por inmueble, con su precio, gastos y obras, alquiler, gastos anuales y cuota del préstamo. Rentabilidades y flujo de caja se calculan solos.
B11: 2. Pestaña «Movimientos»: cada alquiler cobrado y cada gasto, con su fecha, inmueble y tipo, elegidos en las listas.
B12: 3. Pestaña «Resumen»: se muestra el último año introducido; alquileres, gastos y resultado por inmueble, y los alquileres mes a mes. Un mes pasado sin alquiler se pone en naranja.
B13: Solo hay que rellenar las celdas doradas. Los importes son antes de impuestos.
B14: Las filas ya rellenas son ejemplos ficticios: bórrelas antes de empezar.
B16: El día en que la hoja de cálculo ya no basta
B17: Patrice sigue los alquileres mes a mes y detecta los impagos, emite los recibos, importa los informes de la administración, calcula el resultado de las rentas inmobiliarias francesas (régimen real o micro-foncier) y ayuda a rellenar la declaración 2044. Estas funciones forman parte de Premium; los indicadores de rentabilidad y de tesorería son gratuitos.
... B21: Plantilla gratuita y de libre uso. No constituye asesoramiento financiero, fiscal ni jurídico. Versión de octubre de 2026.

Sheet Inmuebles
B2: Mis inmuebles en alquiler
B3: Una fila por inmueble · rellene las celdas doradas
A5: Inmueble | B5: Ciudad | C5: Precio de compra (€) | D5: Gastos y obras (€) | E5: Alquiler mensual (€) | F5: Gastos anuales (€) | G5: Cuota del préstamo (€) | H5: Rentabilidad bruta | I5: Rentabilidad neta | J5: Flujo de caja mensual (€)
A6: Estudio (ejemplo) | B6: Lyon | C6: 145000 | D6: 12000 | E6: 620 | F6: 1450 | G6: 610 | H6: =IF(OR(C6="",E6="",C6+D6=0),"",E6*12/(C6+D6)) | I6: =IF(OR(C6="",E6="",C6+D6=0),"",(E6*12-F6)/(C6+D6)) | J6: =IF(E6="","",E6-F6/12-G6)
A7: Piso de un dormitorio (ejemplo) | B7: Nantes | C7: 168000 | D7: 15000 | E7: 760 | F7: 1900 | G7: 0 | H7: =IF(OR(C7="",E7="",C7+D7=0),"",E7*12/(C7+D7)) | I7: =IF(OR(C7="",E7="",C7+D7=0),"",(E7*12-F7)/(C7+D7)) | J7: =IF(E7="","",E7-F7/12-G7)
H8: =IF(OR(C8="",E8="",C8+D8=0),"",E8*12/(C8+D8)) | I8: =IF(OR(C8="",E8="",C8+D8=0),"",(E8*12-F8)/(C8+D8)) | J8: =IF(E8="","",E8-F8/12-G8)
H9: =IF(OR(C9="",E9="",C9+D9=0),"",E9*12/(C9+D9)) | I9: =IF(OR(C9="",E9="",C9+D9=0),"",(E9*12-F9)/(C9+D9)) | J9: =IF(E9="","",E9-F9/12-G9)
H10: =IF(OR(C10="",E10="",C10+D10=0),"",E10*12/(C10+D10)) | I10: =IF(OR(C10="",E10="",C10+D10=0),"",(E10*12-F10)/(C10+D10)) | J10: =IF(E10="","",E10-F10/12-G10)
H11: =IF(OR(C11="",E11="",C11+D11=0),"",E11*12/(C11+D11)) | I11: =IF(OR(C11="",E11="",C11+D11=0),"",(E11*12-F11)/(C11+D11)) | J11: =IF(E11="","",E11-F11/12-G11)
H12: =IF(OR(C12="",E12="",C12+D12=0),"",E12*12/(C12+D12)) | I12: =IF(OR(C12="",E12="",C12+D12=0),"",(E12*12-F12)/(C12+D12)) | J12: =IF(E12="","",E12-F12/12-G12)
H13: =IF(OR(C13="",E13="",C13+D13=0),"",E13*12/(C13+D13)) | I13: =IF(OR(C13="",E13="",C13+D13=0),"",(E13*12-F13)/(C13+D13)) | J13: =IF(E13="","",E13-F13/12-G13)
H14: =IF(OR(C14="",E14="",C14+D14=0),"",E14*12/(C14+D14)) | I14: =IF(OR(C14="",E14="",C14+D14=0),"",(E14*12-F14)/(C14+D14)) | J14: =IF(E14="","",E14-F14/12-G14)
H15: =IF(OR(C15="",E15="",C15+D15=0),"",E15*12/(C15+D15)) | I15: =IF(OR(C15="",E15="",C15+D15=0),"",(E15*12-F15)/(C15+D15)) | J15: =IF(E15="","",E15-F15/12-G15)
H16: =IF(OR(C16="",E16="",C16+D16=0),"",E16*12/(C16+D16)) | I16: =IF(OR(C16="",E16="",C16+D16=0),"",(E16*12-F16)/(C16+D16)) | J16: =IF(E16="","",E16-F16/12-G16)
H17: =IF(OR(C17="",E17="",C17+D17=0),"",E17*12/(C17+D17)) | I17: =IF(OR(C17="",E17="",C17+D17=0),"",(E17*12-F17)/(C17+D17)) | J17: =IF(E17="","",E17-F17/12-G17)
H18: =IF(OR(C18="",E18="",C18+D18=0),"",E18*12/(C18+D18)) | I18: =IF(OR(C18="",E18="",C18+D18=0),"",(E18*12-F18)/(C18+D18)) | J18: =IF(E18="","",E18-F18/12-G18)
H19: =IF(OR(C19="",E19="",C19+D19=0),"",E19*12/(C19+D19)) | I19: =IF(OR(C19="",E19="",C19+D19=0),"",(E19*12-F19)/(C19+D19)) | J19: =IF(E19="","",E19-F19/12-G19)
... H25: =IF(OR(C25="",E25="",C25+D25=0),"",E25*12/(C25+D25)) | I25: =IF(OR(C25="",E25="",C25+D25=0),"",(E25*12-F25)/(C25+D25)) | J25: =IF(E25="","",E25-F25/12-G25)
A27: Rentabilidad bruta = alquiler mensual × 12 ÷ (precio de compra + gastos y obras).
A28: Rentabilidad neta = (alquiler mensual × 12 − gastos anuales) ÷ (precio de compra + gastos y obras). Gastos anuales: impuesto predial (taxe foncière), gastos de comunidad no repercutibles, seguro, gastos de gestión.
A29: Flujo de caja mensual = alquiler mensual − gastos anuales ÷ 12 − cuota del préstamo. Antes de impuestos.

Sheet Movimientos
B2: Alquileres y gastos
B3: Una fila por alquiler cobrado o por gasto · rellene las celdas doradas
A5: Fecha | B5: Inmueble | C5: Tipo | D5: Importe (€) | E5: Comentario | F5: Lado
A6: 46208 | B6: Estudio (ejemplo) | C6: Alquiler cobrado | D6: 620 | E6: Ejemplo ficticio: bórrelo | F6: =IF(C6="","",IFERROR(VLOOKUP(C6,'Listas'!$A:$B,2,FALSE),"Gasto"))
A7: 46209 | B7: Piso de un dormitorio (ejemplo) | C7: Alquiler cobrado | D7: 760 | E7: Ejemplo ficticio: bórrelo | F7: =IF(C7="","",IFERROR(VLOOKUP(C7,'Listas'!$A:$B,2,FALSE),"Gasto"))
A8: 46218 | B8: Estudio (ejemplo) | C8: Gastos de comunidad | D8: 210 | E8: Ejemplo ficticio: bórrelo | F8: =IF(C8="","",IFERROR(VLOOKUP(C8,'Listas'!$A:$B,2,FALSE),"Gasto"))
A9: 46239 | B9: Estudio (ejemplo) | C9: Alquiler cobrado | D9: 620 | E9: Ejemplo ficticio: bórrelo | F9: =IF(C9="","",IFERROR(VLOOKUP(C9,'Listas'!$A:$B,2,FALSE),"Gasto"))
A10: 46240 | B10: Piso de un dormitorio (ejemplo) | C10: Alquiler cobrado | D10: 760 | E10: Ejemplo ficticio: bórrelo | F10: =IF(C10="","",IFERROR(VLOOKUP(C10,'Listas'!$A:$B,2,FALSE),"Gasto"))
A11: 46254 | B11: Estudio (ejemplo) | C11: Obras y mantenimiento | D11: 450 | E11: Ejemplo ficticio: bórrelo | F11: =IF(C11="","",IFERROR(VLOOKUP(C11,'Listas'!$A:$B,2,FALSE),"Gasto"))
A12: 46271 | B12: Piso de un dormitorio (ejemplo) | C12: Alquiler cobrado | D12: 760 | E12: Ejemplo ficticio: bórrelo | F12: =IF(C12="","",IFERROR(VLOOKUP(C12,'Listas'!$A:$B,2,FALSE),"Gasto"))
A13: 46277 | B13: Piso de un dormitorio (ejemplo) | C13: Seguro | D13: 160 | E13: Ejemplo ficticio: bórrelo | F13: =IF(C13="","",IFERROR(VLOOKUP(C13,'Listas'!$A:$B,2,FALSE),"Gasto"))
A14: 46298 | B14: Estudio (ejemplo) | C14: Alquiler cobrado | D14: 620 | E14: Ejemplo ficticio: bórrelo | F14: =IF(C14="","",IFERROR(VLOOKUP(C14,'Listas'!$A:$B,2,FALSE),"Gasto"))
A15: 46301 | B15: Piso de un dormitorio (ejemplo) | C15: Alquiler cobrado | D15: 760 | E15: Ejemplo ficticio: bórrelo | F15: =IF(C15="","",IFERROR(VLOOKUP(C15,'Listas'!$A:$B,2,FALSE),"Gasto"))
A16: 46310 | B16: Estudio (ejemplo) | C16: Gastos de comunidad | D16: 210 | E16: Ejemplo ficticio: bórrelo | F16: =IF(C16="","",IFERROR(VLOOKUP(C16,'Listas'!$A:$B,2,FALSE),"Gasto"))
A17: 46310 | B17: Estudio (ejemplo) | C17: Impuesto predial (taxe foncière) | D17: 780 | E17: Ejemplo ficticio: bórrelo | F17: =IF(C17="","",IFERROR(VLOOKUP(C17,'Listas'!$A:$B,2,FALSE),"Gasto"))
A18: 46310 | B18: Piso de un dormitorio (ejemplo) | C18: Impuesto predial (taxe foncière) | D18: 950 | E18: Ejemplo ficticio: bórrelo | F18: =IF(C18="","",IFERROR(VLOOKUP(C18,'Listas'!$A:$B,2,FALSE),"Gasto"))
F19: =IF(C19="","",IFERROR(VLOOKUP(C19,'Listas'!$A:$B,2,FALSE),"Gasto"))
F20: =IF(C20="","",IFERROR(VLOOKUP(C20,'Listas'!$A:$B,2,FALSE),"Gasto"))
F21: =IF(C21="","",IFERROR(VLOOKUP(C21,'Listas'!$A:$B,2,FALSE),"Gasto"))
F22: =IF(C22="","",IFERROR(VLOOKUP(C22,'Listas'!$A:$B,2,FALSE),"Gasto"))
F23: =IF(C23="","",IFERROR(VLOOKUP(C23,'Listas'!$A:$B,2,FALSE),"Gasto"))
F24: =IF(C24="","",IFERROR(VLOOKUP(C24,'Listas'!$A:$B,2,FALSE),"Gasto"))
F25: =IF(C25="","",IFERROR(VLOOKUP(C25,'Listas'!$A:$B,2,FALSE),"Gasto"))
F26: =IF(C26="","",IFERROR(VLOOKUP(C26,'Listas'!$A:$B,2,FALSE),"Gasto"))
F27: =IF(C27="","",IFERROR(VLOOKUP(C27,'Listas'!$A:$B,2,FALSE),"Gasto"))
F28: =IF(C28="","",IFERROR(VLOOKUP(C28,'Listas'!$A:$B,2,FALSE),"Gasto"))
F29: =IF(C29="","",IFERROR(VLOOKUP(C29,'Listas'!$A:$B,2,FALSE),"Gasto"))
F30: =IF(C30="","",IFERROR(VLOOKUP(C30,'Listas'!$A:$B,2,FALSE),"Gasto"))
... F505: =IF(C505="","",IFERROR(VLOOKUP(C505,'Listas'!$A:$B,2,FALSE),"Gasto"))

Sheet Resumen
B2: Resumen del año
B3: Todo se calcula a partir de las pestañas «Inmuebles» y «Movimientos»
B6: Año mostrado | C6: =YEAR(MAX('Movimientos'!$A$6:$A$505)) | D6: el último año introducido; escriba otro para verlo
B8: Resultado por inmueble
B9: Inmueble | C9: Alquileres | D9: Gastos | E9: Resultado | F9: Meses pagados
B10: =IF('Inmuebles'!$A$6="","",'Inmuebles'!$A$6) | C10: =IF($B10="","",SUMIFS('Movimientos'!$D$6:$D$505,'Movimientos'!$B$6:$B$505,$B10,'Movimientos'!$F$6:$F$505,"Ingreso",'Movimientos'!$A$6:$A$505,">="&DATE(Annee,1,1),'Movimientos'!$A$6:$A$505,"<"&DATE(Annee+1,1,1))) | D10: =IF($B10="","",SUMIFS('Movimientos'!$D$6:$D$505,'Movimientos'!$B$6:$B$505,$B10,'Movimientos'!$F$6:$F$505,"Gasto",'Movimientos'!$A$6:$A$505,">="&DATE(Annee,1,1),'Movimientos'!$A$6:$A$505,"<"&DATE(Annee+1,1,1))) | E10: =IF($B10="","",C10-D10) | F10: =IF($B10="","",COUNTIF(C34:N34,">0"))
B11: =IF('Inmuebles'!$A$7="","",'Inmuebles'!$A$7) | C11: =IF($B11="","",SUMIFS('Movimientos'!$D$6:$D$505,'Movimientos'!$B$6:$B$505,$B11,'Movimientos'!$F$6:$F$505,"Ingreso",'Movimientos'!$A$6:$A$505,">="&DATE(Annee,1,1),'Movimientos'!$A$6:$A$505,"<"&DATE(Annee+1,1,1))) | D11: =IF($B11="","",SUMIFS('Movimientos'!$D$6:$D$505,'Movimientos'!$B$6:$B$505,$B11,'Movimientos'!$F$6:$F$505,"Gasto",'Movimientos'!$A$6:$A$505,">="&DATE(Annee,1,1),'Movimientos'!$A$6:$A$505,"<"&DATE(Annee+1,1,1))) | E11: =IF($B11="","",C11-D11) | F11: =IF($B11="","",COUNTIF(C35:N35,">0"))
B12: =IF('Inmuebles'!$A$8="","",'Inmuebles'!$A$8) | C12: =IF($B12="","",SUMIFS('Movimientos'!$D$6:$D$505,'Movimientos'!$B$6:$B$505,$B12,'Movimientos'!$F$6:$F$505,"Ingreso",'Movimientos'!$A$6:$A$505,">="&DATE(Annee,1,1),'Movimientos'!$A$6:$A$505,"<"&DATE(Annee+1,1,1))) | D12: =IF($B12="","",SUMIFS('Movimientos'!$D$6:$D$505,'Movimientos'!$B$6:$B$505,$B12,'Movimientos'!$F$6:$F$505,"Gasto",'Movimientos'!$A$6:$A$505,">="&DATE(Annee,1,1),'Movimientos'!$A$6:$A$505,"<"&DATE(Annee+1,1,1))) | E12: =IF($B12="","",C12-D12) | F12: =IF($B12="","",COUNTIF(C36:N36,">0"))
B13: =IF('Inmuebles'!$A$9="","",'Inmuebles'!$A$9) | C13: =IF($B13="","",SUMIFS('Movimientos'!$D$6:$D$505,'Movimientos'!$B$6:$B$505,$B13,'Movimientos'!$F$6:$F$505,"Ingreso",'Movimientos'!$A$6:$A$505,">="&DATE(Annee,1,1),'Movimientos'!$A$6:$A$505,"<"&DATE(Annee+1,1,1))) | D13: =IF($B13="","",SUMIFS('Movimientos'!$D$6:$D$505,'Movimientos'!$B$6:$B$505,$B13,'Movimientos'!$F$6:$F$505,"Gasto",'Movimientos'!$A$6:$A$505,">="&DATE(Annee,1,1),'Movimientos'!$A$6:$A$505,"<"&DATE(Annee+1,1,1))) | E13: =IF($B13="","",C13-D13) | F13: =IF($B13="","",COUNTIF(C37:N37,">0"))
B14: =IF('Inmuebles'!$A$10="","",'Inmuebles'!$A$10) | C14: =IF($B14="","",SUMIFS('Movimientos'!$D$6:$D$505,'Movimientos'!$B$6:$B$505,$B14,'Movimientos'!$F$6:$F$505,"Ingreso",'Movimientos'!$A$6:$A$505,">="&DATE(Annee,1,1),'Movimientos'!$A$6:$A$505,"<"&DATE(Annee+1,1,1))) | D14: =IF($B14="","",SUMIFS('Movimientos'!$D$6:$D$505,'Movimientos'!$B$6:$B$505,$B14,'Movimientos'!$F$6:$F$505,"Gasto",'Movimientos'!$A$6:$A$505,">="&DATE(Annee,1,1),'Movimientos'!$A$6:$A$505,"<"&DATE(Annee+1,1,1))) | E14: =IF($B14="","",C14-D14) | F14: =IF($B14="","",COUNTIF(C38:N38,">0"))
B15: =IF('Inmuebles'!$A$11="","",'Inmuebles'!$A$11) | C15: =IF($B15="","",SUMIFS('Movimientos'!$D$6:$D$505,'Movimientos'!$B$6:$B$505,$B15,'Movimientos'!$F$6:$F$505,"Ingreso",'Movimientos'!$A$6:$A$505,">="&DATE(Annee,1,1),'Movimientos'!$A$6:$A$505,"<"&DATE(Annee+1,1,1))) | D15: =IF($B15="","",SUMIFS('Movimientos'!$D$6:$D$505,'Movimientos'!$B$6:$B$505,$B15,'Movimientos'!$F$6:$F$505,"Gasto",'Movimientos'!$A$6:$A$505,">="&DATE(Annee,1,1),'Movimientos'!$A$6:$A$505,"<"&DATE(Annee+1,1,1))) | E15: =IF($B15="","",C15-D15) | F15: =IF($B15="","",COUNTIF(C39:N39,">0"))
B16: =IF('Inmuebles'!$A$12="","",'Inmuebles'!$A$12) | C16: =IF($B16="","",SUMIFS('Movimientos'!$D$6:$D$505,'Movimientos'!$B$6:$B$505,$B16,'Movimientos'!$F$6:$F$505,"Ingreso",'Movimientos'!$A$6:$A$505,">="&DATE(Annee,1,1),'Movimientos'!$A$6:$A$505,"<"&DATE(Annee+1,1,1))) | D16: =IF($B16="","",SUMIFS('Movimientos'!$D$6:$D$505,'Movimientos'!$B$6:$B$505,$B16,'Movimientos'!$F$6:$F$505,"Gasto",'Movimientos'!$A$6:$A$505,">="&DATE(Annee,1,1),'Movimientos'!$A$6:$A$505,"<"&DATE(Annee+1,1,1))) | E16: =IF($B16="","",C16-D16) | F16: =IF($B16="","",COUNTIF(C40:N40,">0"))
B17: =IF('Inmuebles'!$A$13="","",'Inmuebles'!$A$13) | C17: =IF($B17="","",SUMIFS('Movimientos'!$D$6:$D$505,'Movimientos'!$B$6:$B$505,$B17,'Movimientos'!$F$6:$F$505,"Ingreso",'Movimientos'!$A$6:$A$505,">="&DATE(Annee,1,1),'Movimientos'!$A$6:$A$505,"<"&DATE(Annee+1,1,1))) | D17: =IF($B17="","",SUMIFS('Movimientos'!$D$6:$D$505,'Movimientos'!$B$6:$B$505,$B17,'Movimientos'!$F$6:$F$505,"Gasto",'Movimientos'!$A$6:$A$505,">="&DATE(Annee,1,1),'Movimientos'!$A$6:$A$505,"<"&DATE(Annee+1,1,1))) | E17: =IF($B17="","",C17-D17) | F17: =IF($B17="","",COUNTIF(C41:N41,">0"))
B18: =IF('Inmuebles'!$A$14="","",'Inmuebles'!$A$14) | C18: =IF($B18="","",SUMIFS('Movimientos'!$D$6:$D$505,'Movimientos'!$B$6:$B$505,$B18,'Movimientos'!$F$6:$F$505,"Ingreso",'Movimientos'!$A$6:$A$505,">="&DATE(Annee,1,1),'Movimientos'!$A$6:$A$505,"<"&DATE(Annee+1,1,1))) | D18: =IF($B18="","",SUMIFS('Movimientos'!$D$6:$D$505,'Movimientos'!$B$6:$B$505,$B18,'Movimientos'!$F$6:$F$505,"Gasto",'Movimientos'!$A$6:$A$505,">="&DATE(Annee,1,1),'Movimientos'!$A$6:$A$505,"<"&DATE(Annee+1,1,1))) | E18: =IF($B18="","",C18-D18) | F18: =IF($B18="","",COUNTIF(C42:N42,">0"))
B19: =IF('Inmuebles'!$A$15="","",'Inmuebles'!$A$15) | C19: =IF($B19="","",SUMIFS('Movimientos'!$D$6:$D$505,'Movimientos'!$B$6:$B$505,$B19,'Movimientos'!$F$6:$F$505,"Ingreso",'Movimientos'!$A$6:$A$505,">="&DATE(Annee,1,1),'Movimientos'!$A$6:$A$505,"<"&DATE(Annee+1,1,1))) | D19: =IF($B19="","",SUMIFS('Movimientos'!$D$6:$D$505,'Movimientos'!$B$6:$B$505,$B19,'Movimientos'!$F$6:$F$505,"Gasto",'Movimientos'!$A$6:$A$505,">="&DATE(Annee,1,1),'Movimientos'!$A$6:$A$505,"<"&DATE(Annee+1,1,1))) | E19: =IF($B19="","",C19-D19) | F19: =IF($B19="","",COUNTIF(C43:N43,">0"))
B20: =IF('Inmuebles'!$A$16="","",'Inmuebles'!$A$16) | C20: =IF($B20="","",SUMIFS('Movimientos'!$D$6:$D$505,'Movimientos'!$B$6:$B$505,$B20,'Movimientos'!$F$6:$F$505,"Ingreso",'Movimientos'!$A$6:$A$505,">="&DATE(Annee,1,1),'Movimientos'!$A$6:$A$505,"<"&DATE(Annee+1,1,1))) | D20: =IF($B20="","",SUMIFS('Movimientos'!$D$6:$D$505,'Movimientos'!$B$6:$B$505,$B20,'Movimientos'!$F$6:$F$505,"Gasto",'Movimientos'!$A$6:$A$505,">="&DATE(Annee,1,1),'Movimientos'!$A$6:$A$505,"<"&DATE(Annee+1,1,1))) | E20: =IF($B20="","",C20-D20) | F20: =IF($B20="","",COUNTIF(C44:N44,">0"))
B21: =IF('Inmuebles'!$A$17="","",'Inmuebles'!$A$17) | C21: =IF($B21="","",SUMIFS('Movimientos'!$D$6:$D$505,'Movimientos'!$B$6:$B$505,$B21,'Movimientos'!$F$6:$F$505,"Ingreso",'Movimientos'!$A$6:$A$505,">="&DATE(Annee,1,1),'Movimientos'!$A$6:$A$505,"<"&DATE(Annee+1,1,1))) | D21: =IF($B21="","",SUMIFS('Movimientos'!$D$6:$D$505,'Movimientos'!$B$6:$B$505,$B21,'Movimientos'!$F$6:$F$505,"Gasto",'Movimientos'!$A$6:$A$505,">="&DATE(Annee,1,1),'Movimientos'!$A$6:$A$505,"<"&DATE(Annee+1,1,1))) | E21: =IF($B21="","",C21-D21) | F21: =IF($B21="","",COUNTIF(C45:N45,">0"))
B22: =IF('Inmuebles'!$A$18="","",'Inmuebles'!$A$18) | C22: =IF($B22="","",SUMIFS('Movimientos'!$D$6:$D$505,'Movimientos'!$B$6:$B$505,$B22,'Movimientos'!$F$6:$F$505,"Ingreso",'Movimientos'!$A$6:$A$505,">="&DATE(Annee,1,1),'Movimientos'!$A$6:$A$505,"<"&DATE(Annee+1,1,1))) | D22: =IF($B22="","",SUMIFS('Movimientos'!$D$6:$D$505,'Movimientos'!$B$6:$B$505,$B22,'Movimientos'!$F$6:$F$505,"Gasto",'Movimientos'!$A$6:$A$505,">="&DATE(Annee,1,1),'Movimientos'!$A$6:$A$505,"<"&DATE(Annee+1,1,1))) | E22: =IF($B22="","",C22-D22) | F22: =IF($B22="","",COUNTIF(C46:N46,">0"))
B23: =IF('Inmuebles'!$A$19="","",'Inmuebles'!$A$19) | C23: =IF($B23="","",SUMIFS('Movimientos'!$D$6:$D$505,'Movimientos'!$B$6:$B$505,$B23,'Movimientos'!$F$6:$F$505,"Ingreso",'Movimientos'!$A$6:$A$505,">="&DATE(Annee,1,1),'Movimientos'!$A$6:$A$505,"<"&DATE(Annee+1,1,1))) | D23: =IF($B23="","",SUMIFS('Movimientos'!$D$6:$D$505,'Movimientos'!$B$6:$B$505,$B23,'Movimientos'!$F$6:$F$505,"Gasto",'Movimientos'!$A$6:$A$505,">="&DATE(Annee,1,1),'Movimientos'!$A$6:$A$505,"<"&DATE(Annee+1,1,1))) | E23: =IF($B23="","",C23-D23) | F23: =IF($B23="","",COUNTIF(C47:N47,">0"))
B24: =IF('Inmuebles'!$A$20="","",'Inmuebles'!$A$20) | C24: =IF($B24="","",SUMIFS('Movimientos'!$D$6:$D$505,'Movimientos'!$B$6:$B$505,$B24,'Movimientos'!$F$6:$F$505,"Ingreso",'Movimientos'!$A$6:$A$505,">="&DATE(Annee,1,1),'Movimientos'!$A$6:$A$505,"<"&DATE(Annee+1,1,1))) | D24: =IF($B24="","",SUMIFS('Movimientos'!$D$6:$D$505,'Movimientos'!$B$6:$B$505,$B24,'Movimientos'!$F$6:$F$505,"Gasto",'Movimientos'!$A$6:$A$505,">="&DATE(Annee,1,1),'Movimientos'!$A$6:$A$505,"<"&DATE(Annee+1,1,1))) | E24: =IF($B24="","",C24-D24) | F24: =IF($B24="","",COUNTIF(C48:N48,">0"))
B25: =IF('Inmuebles'!$A$21="","",'Inmuebles'!$A$21) | C25: =IF($B25="","",SUMIFS('Movimientos'!$D$6:$D$505,'Movimientos'!$B$6:$B$505,$B25,'Movimientos'!$F$6:$F$505,"Ingreso",'Movimientos'!$A$6:$A$505,">="&DATE(Annee,1,1),'Movimientos'!$A$6:$A$505,"<"&DATE(Annee+1,1,1))) | D25: =IF($B25="","",SUMIFS('Movimientos'!$D$6:$D$505,'Movimientos'!$B$6:$B$505,$B25,'Movimientos'!$F$6:$F$505,"Gasto",'Movimientos'!$A$6:$A$505,">="&DATE(Annee,1,1),'Movimientos'!$A$6:$A$505,"<"&DATE(Annee+1,1,1))) | E25: =IF($B25="","",C25-D25) | F25: =IF($B25="","",COUNTIF(C49:N49,">0"))
B26: =IF('Inmuebles'!$A$22="","",'Inmuebles'!$A$22) | C26: =IF($B26="","",SUMIFS('Movimientos'!$D$6:$D$505,'Movimientos'!$B$6:$B$505,$B26,'Movimientos'!$F$6:$F$505,"Ingreso",'Movimientos'!$A$6:$A$505,">="&DATE(Annee,1,1),'Movimientos'!$A$6:$A$505,"<"&DATE(Annee+1,1,1))) | D26: =IF($B26="","",SUMIFS('Movimientos'!$D$6:$D$505,'Movimientos'!$B$6:$B$505,$B26,'Movimientos'!$F$6:$F$505,"Gasto",'Movimientos'!$A$6:$A$505,">="&DATE(Annee,1,1),'Movimientos'!$A$6:$A$505,"<"&DATE(Annee+1,1,1))) | E26: =IF($B26="","",C26-D26) | F26: =IF($B26="","",COUNTIF(C50:N50,">0"))
B27: =IF('Inmuebles'!$A$23="","",'Inmuebles'!$A$23) | C27: =IF($B27="","",SUMIFS('Movimientos'!$D$6:$D$505,'Movimientos'!$B$6:$B$505,$B27,'Movimientos'!$F$6:$F$505,"Ingreso",'Movimientos'!$A$6:$A$505,">="&DATE(Annee,1,1),'Movimientos'!$A$6:$A$505,"<"&DATE(Annee+1,1,1))) | D27: =IF($B27="","",SUMIFS('Movimientos'!$D$6:$D$505,'Movimientos'!$B$6:$B$505,$B27,'Movimientos'!$F$6:$F$505,"Gasto",'Movimientos'!$A$6:$A$505,">="&DATE(Annee,1,1),'Movimientos'!$A$6:$A$505,"<"&DATE(Annee+1,1,1))) | E27: =IF($B27="","",C27-D27) | F27: =IF($B27="","",COUNTIF(C51:N51,">0"))
B28: =IF('Inmuebles'!$A$24="","",'Inmuebles'!$A$24) | C28: =IF($B28="","",SUMIFS('Movimientos'!$D$6:$D$505,'Movimientos'!$B$6:$B$505,$B28,'Movimientos'!$F$6:$F$505,"Ingreso",'Movimientos'!$A$6:$A$505,">="&DATE(Annee,1,1),'Movimientos'!$A$6:$A$505,"<"&DATE(Annee+1,1,1))) | D28: =IF($B28="","",SUMIFS('Movimientos'!$D$6:$D$505,'Movimientos'!$B$6:$B$505,$B28,'Movimientos'!$F$6:$F$505,"Gasto",'Movimientos'!$A$6:$A$505,">="&DATE(Annee,1,1),'Movimientos'!$A$6:$A$505,"<"&DATE(Annee+1,1,1))) | E28: =IF($B28="","",C28-D28) | F28: =IF($B28="","",COUNTIF(C52:N52,">0"))
B29: =IF('Inmuebles'!$A$25="","",'Inmuebles'!$A$25) | C29: =IF($B29="","",SUMIFS('Movimientos'!$D$6:$D$505,'Movimientos'!$B$6:$B$505,$B29,'Movimientos'!$F$6:$F$505,"Ingreso",'Movimientos'!$A$6:$A$505,">="&DATE(Annee,1,1),'Movimientos'!$A$6:$A$505,"<"&DATE(Annee+1,1,1))) | D29: =IF($B29="","",SUMIFS('Movimientos'!$D$6:$D$505,'Movimientos'!$B$6:$B$505,$B29,'Movimientos'!$F$6:$F$505,"Gasto",'Movimientos'!$A$6:$A$505,">="&DATE(Annee,1,1),'Movimientos'!$A$6:$A$505,"<"&DATE(Annee+1,1,1))) | E29: =IF($B29="","",C29-D29) | F29: =IF($B29="","",COUNTIF(C53:N53,">0"))
B30: Total | C30: =SUM(C10:C29) | D30: =SUM(D10:D29) | E30: =SUM(E10:E29)
B32: Alquileres cobrados, mes a mes
B33: Inmueble | C33: ene. | D33: feb. | E33: mar. | F33: abr. | G33: may. | H33: jun. | I33: jul. | J33: ago. | K33: sept. | L33: oct. | M33: nov. | N33: dic.
B34: =B10 | C34: =IF($B34="","",SUMIFS('Movimientos'!$D$6:$D$505,'Movimientos'!$B$6:$B$505,$B34,'Movimientos'!$C$6:$C$505,"Alquiler cobrado",'Movimientos'!$A$6:$A$505,">="&DATE(Annee,1,1),'Movimientos'!$A$6:$A$505,"<"&EDATE(DATE(Annee,1,1),1))) | D34: =IF($B34="","",SUMIFS('Movimientos'!$D$6:$D$505,'Movimientos'!$B$6:$B$505,$B34,'Movimientos'!$C$6:$C$505,"Alquiler cobrado",'Movimientos'!$A$6:$A$505,">="&DATE(Annee,2,1),'Movimientos'!$A$6:$A$505,"<"&EDATE(DATE(Annee,2,1),1))) | E34: =IF($B34="","",SUMIFS('Movimientos'!$D$6:$D$505,'Movimientos'!$B$6:$B$505,$B34,'Movimientos'!$C$6:$C$505,"Alquiler cobrado",'Movimientos'!$A$6:$A$505,">="&DATE(Annee,3,1),'Movimientos'!$A$6:$A$505,"<"&EDATE(DATE(Annee,3,1),1))) | F34: =IF($B34="","",SUMIFS('Movimientos'!$D$6:$D$505,'Movimientos'!$B$6:$B$505,$B34,'Movimientos'!$C$6:$C$505,"Alquiler cobrado",'Movimientos'!$A$6:$A$505,">="&DATE(Annee,4,1),'Movimientos'!$A$6:$A$505,"<"&EDATE(DATE(Annee,4,1),1))) | G34: =IF($B34="","",SUMIFS('Movimientos'!$D$6:$D$505,'Movimientos'!$B$6:$B$505,$B34,'Movimientos'!$C$6:$C$505,"Alquiler cobrado",'Movimientos'!$A$6:$A$505,">="&DATE(Annee,5,1),'Movimientos'!$A$6:$A$505,"<"&EDATE(DATE(Annee,5,1),1))) | H34: =IF($B34="","",SUMIFS('Movimientos'!$D$6:$D$505,'Movimientos'!$B$6:$B$505,$B34,'Movimientos'!$C$6:$C$505,"Alquiler cobrado",'Movimientos'!$A$6:$A$505,">="&DATE(Annee,6,1),'Movimientos'!$A$6:$A$505,"<"&EDATE(DATE(Annee,6,1),1))) | I34: =IF($B34="","",SUMIFS('Movimientos'!$D$6:$D$505,'Movimientos'!$B$6:$B$505,$B34,'Movimientos'!$C$6:$C$505,"Alquiler cobrado",'Movimientos'!$A$6:$A$505,">="&DATE(Annee,7,1),'Movimientos'!$A$6:$A$505,"<"&EDATE(DATE(Annee,7,1),1))) | J34: =IF($B34="","",SUMIFS('Movimientos'!$D$6:$D$505,'Movimientos'!$B$6:$B$505,$B34,'Movimientos'!$C$6:$C$505,"Alquiler cobrado",'Movimientos'!$A$6:$A$505,">="&DATE(Annee,8,1),'Movimientos'!$A$6:$A$505,"<"&EDATE(DATE(Annee,8,1),1))) | K34: =IF($B34="","",SUMIFS('Movimientos'!$D$6:$D$505,'Movimientos'!$B$6:$B$505,$B34,'Movimientos'!$C$6:$C$505,"Alquiler cobrado",'Movimientos'!$A$6:$A$505,">="&DATE(Annee,9,1),'Movimientos'!$A$6:$A$505,"<"&EDATE(DATE(Annee,9,1),1))) | L34: =IF($B34="","",SUMIFS('Movimientos'!$D$6:$D$505,'Movimientos'!$B$6:$B$505,$B34,'Movimientos'!$C$6:$C$505,"Alquiler cobrado",'Movimientos'!$A$6:$A$505,">="&DATE(Annee,10,1),'Movimientos'!$A$6:$A$505,"<"&EDATE(DATE(Annee,10,1),1))) | M34: =IF($B34="","",SUMIFS('Movimientos'!$D$6:$D$505,'Movimientos'!$B$6:$B$505,$B34,'Movimientos'!$C$6:$C$505,"Alquiler cobrado",'Movimientos'!$A$6:$A$505,">="&DATE(Annee,11,1),'Movimientos'!$A$6:$A$505,"<"&EDATE(DATE(Annee,11,1),1))) | N34: =IF($B34="","",SUMIFS('Movimientos'!$D$6:$D$505,'Movimientos'!$B$6:$B$505,$B34,'Movimientos'!$C$6:$C$505,"Alquiler cobrado",'Movimientos'!$A$6:$A$505,">="&DATE(Annee,12,1),'Movimientos'!$A$6:$A$505,"<"&EDATE(DATE(Annee,12,1),1)))
B35: =B11 | C35: =IF($B35="","",SUMIFS('Movimientos'!$D$6:$D$505,'Movimientos'!$B$6:$B$505,$B35,'Movimientos'!$C$6:$C$505,"Alquiler cobrado",'Movimientos'!$A$6:$A$505,">="&DATE(Annee,1,1),'Movimientos'!$A$6:$A$505,"<"&EDATE(DATE(Annee,1,1),1))) | D35: =IF($B35="","",SUMIFS('Movimientos'!$D$6:$D$505,'Movimientos'!$B$6:$B$505,$B35,'Movimientos'!$C$6:$C$505,"Alquiler cobrado",'Movimientos'!$A$6:$A$505,">="&DATE(Annee,2,1),'Movimientos'!$A$6:$A$505,"<"&EDATE(DATE(Annee,2,1),1))) | E35: =IF($B35="","",SUMIFS('Movimientos'!$D$6:$D$505,'Movimientos'!$B$6:$B$505,$B35,'Movimientos'!$C$6:$C$505,"Alquiler cobrado",'Movimientos'!$A$6:$A$505,">="&DATE(Annee,3,1),'Movimientos'!$A$6:$A$505,"<"&EDATE(DATE(Annee,3,1),1))) | F35: =IF($B35="","",SUMIFS('Movimientos'!$D$6:$D$505,'Movimientos'!$B$6:$B$505,$B35,'Movimientos'!$C$6:$C$505,"Alquiler cobrado",'Movimientos'!$A$6:$A$505,">="&DATE(Annee,4,1),'Movimientos'!$A$6:$A$505,"<"&EDATE(DATE(Annee,4,1),1))) | G35: =IF($B35="","",SUMIFS('Movimientos'!$D$6:$D$505,'Movimientos'!$B$6:$B$505,$B35,'Movimientos'!$C$6:$C$505,"Alquiler cobrado",'Movimientos'!$A$6:$A$505,">="&DATE(Annee,5,1),'Movimientos'!$A$6:$A$505,"<"&EDATE(DATE(Annee,5,1),1))) | H35: =IF($B35="","",SUMIFS('Movimientos'!$D$6:$D$505,'Movimientos'!$B$6:$B$505,$B35,'Movimientos'!$C$6:$C$505,"Alquiler cobrado",'Movimientos'!$A$6:$A$505,">="&DATE(Annee,6,1),'Movimientos'!$A$6:$A$505,"<"&EDATE(DATE(Annee,6,1),1))) | I35: =IF($B35="","",SUMIFS('Movimientos'!$D$6:$D$505,'Movimientos'!$B$6:$B$505,$B35,'Movimientos'!$C$6:$C$505,"Alquiler cobrado",'Movimientos'!$A$6:$A$505,">="&DATE(Annee,7,1),'Movimientos'!$A$6:$A$505,"<"&EDATE(DATE(Annee,7,1),1))) | J35: =IF($B35="","",SUMIFS('Movimientos'!$D$6:$D$505,'Movimientos'!$B$6:$B$505,$B35,'Movimientos'!$C$6:$C$505,"Alquiler cobrado",'Movimientos'!$A$6:$A$505,">="&DATE(Annee,8,1),'Movimientos'!$A$6:$A$505,"<"&EDATE(DATE(Annee,8,1),1))) | K35: =IF($B35="","",SUMIFS('Movimientos'!$D$6:$D$505,'Movimientos'!$B$6:$B$505,$B35,'Movimientos'!$C$6:$C$505,"Alquiler cobrado",'Movimientos'!$A$6:$A$505,">="&DATE(Annee,9,1),'Movimientos'!$A$6:$A$505,"<"&EDATE(DATE(Annee,9,1),1))) | L35: =IF($B35="","",SUMIFS('Movimientos'!$D$6:$D$505,'Movimientos'!$B$6:$B$505,$B35,'Movimientos'!$C$6:$C$505,"Alquiler cobrado",'Movimientos'!$A$6:$A$505,">="&DATE(Annee,10,1),'Movimientos'!$A$6:$A$505,"<"&EDATE(DATE(Annee,10,1),1))) | M35: =IF($B35="","",SUMIFS('Movimientos'!$D$6:$D$505,'Movimientos'!$B$6:$B$505,$B35,'Movimientos'!$C$6:$C$505,"Alquiler cobrado",'Movimientos'!$A$6:$A$505,">="&DATE(Annee,11,1),'Movimientos'!$A$6:$A$505,"<"&EDATE(DATE(Annee,11,1),1))) | N35: =IF($B35="","",SUMIFS('Movimientos'!$D$6:$D$505,'Movimientos'!$B$6:$B$505,$B35,'Movimientos'!$C$6:$C$505,"Alquiler cobrado",'Movimientos'!$A$6:$A$505,">="&DATE(Annee,12,1),'Movimientos'!$A$6:$A$505,"<"&EDATE(DATE(Annee,12,1),1)))
B36: =B12 | C36: =IF($B36="","",SUMIFS('Movimientos'!$D$6:$D$505,'Movimientos'!$B$6:$B$505,$B36,'Movimientos'!$C$6:$C$505,"Alquiler cobrado",'Movimientos'!$A$6:$A$505,">="&DATE(Annee,1,1),'Movimientos'!$A$6:$A$505,"<"&EDATE(DATE(Annee,1,1),1))) | D36: =IF($B36="","",SUMIFS('Movimientos'!$D$6:$D$505,'Movimientos'!$B$6:$B$505,$B36,'Movimientos'!$C$6:$C$505,"Alquiler cobrado",'Movimientos'!$A$6:$A$505,">="&DATE(Annee,2,1),'Movimientos'!$A$6:$A$505,"<"&EDATE(DATE(Annee,2,1),1))) | E36: =IF($B36="","",SUMIFS('Movimientos'!$D$6:$D$505,'Movimientos'!$B$6:$B$505,$B36,'Movimientos'!$C$6:$C$505,"Alquiler cobrado",'Movimientos'!$A$6:$A$505,">="&DATE(Annee,3,1),'Movimientos'!$A$6:$A$505,"<"&EDATE(DATE(Annee,3,1),1))) | F36: =IF($B36="","",SUMIFS('Movimientos'!$D$6:$D$505,'Movimientos'!$B$6:$B$505,$B36,'Movimientos'!$C$6:$C$505,"Alquiler cobrado",'Movimientos'!$A$6:$A$505,">="&DATE(Annee,4,1),'Movimientos'!$A$6:$A$505,"<"&EDATE(DATE(Annee,4,1),1))) | G36: =IF($B36="","",SUMIFS('Movimientos'!$D$6:$D$505,'Movimientos'!$B$6:$B$505,$B36,'Movimientos'!$C$6:$C$505,"Alquiler cobrado",'Movimientos'!$A$6:$A$505,">="&DATE(Annee,5,1),'Movimientos'!$A$6:$A$505,"<"&EDATE(DATE(Annee,5,1),1))) | H36: =IF($B36="","",SUMIFS('Movimientos'!$D$6:$D$505,'Movimientos'!$B$6:$B$505,$B36,'Movimientos'!$C$6:$C$505,"Alquiler cobrado",'Movimientos'!$A$6:$A$505,">="&DATE(Annee,6,1),'Movimientos'!$A$6:$A$505,"<"&EDATE(DATE(Annee,6,1),1))) | I36: =IF($B36="","",SUMIFS('Movimientos'!$D$6:$D$505,'Movimientos'!$B$6:$B$505,$B36,'Movimientos'!$C$6:$C$505,"Alquiler cobrado",'Movimientos'!$A$6:$A$505,">="&DATE(Annee,7,1),'Movimientos'!$A$6:$A$505,"<"&EDATE(DATE(Annee,7,1),1))) | J36: =IF($B36="","",SUMIFS('Movimientos'!$D$6:$D$505,'Movimientos'!$B$6:$B$505,$B36,'Movimientos'!$C$6:$C$505,"Alquiler cobrado",'Movimientos'!$A$6:$A$505,">="&DATE(Annee,8,1),'Movimientos'!$A$6:$A$505,"<"&EDATE(DATE(Annee,8,1),1))) | K36: =IF($B36="","",SUMIFS('Movimientos'!$D$6:$D$505,'Movimientos'!$B$6:$B$505,$B36,'Movimientos'!$C$6:$C$505,"Alquiler cobrado",'Movimientos'!$A$6:$A$505,">="&DATE(Annee,9,1),'Movimientos'!$A$6:$A$505,"<"&EDATE(DATE(Annee,9,1),1))) | L36: =IF($B36="","",SUMIFS('Movimientos'!$D$6:$D$505,'Movimientos'!$B$6:$B$505,$B36,'Movimientos'!$C$6:$C$505,"Alquiler cobrado",'Movimientos'!$A$6:$A$505,">="&DATE(Annee,10,1),'Movimientos'!$A$6:$A$505,"<"&EDATE(DATE(Annee,10,1),1))) | M36: =IF($B36="","",SUMIFS('Movimientos'!$D$6:$D$505,'Movimientos'!$B$6:$B$505,$B36,'Movimientos'!$C$6:$C$505,"Alquiler cobrado",'Movimientos'!$A$6:$A$505,">="&DATE(Annee,11,1),'Movimientos'!$A$6:$A$505,"<"&EDATE(DATE(Annee,11,1),1))) | N36: =IF($B36="","",SUMIFS('Movimientos'!$D$6:$D$505,'Movimientos'!$B$6:$B$505,$B36,'Movimientos'!$C$6:$C$505,"Alquiler cobrado",'Movimientos'!$A$6:$A$505,">="&DATE(Annee,12,1),'Movimientos'!$A$6:$A$505,"<"&EDATE(DATE(Annee,12,1),1)))
B37: =B13 | C37: =IF($B37="","",SUMIFS('Movimientos'!$D$6:$D$505,'Movimientos'!$B$6:$B$505,$B37,'Movimientos'!$C$6:$C$505,"Alquiler cobrado",'Movimientos'!$A$6:$A$505,">="&DATE(Annee,1,1),'Movimientos'!$A$6:$A$505,"<"&EDATE(DATE(Annee,1,1),1))) | D37: =IF($B37="","",SUMIFS('Movimientos'!$D$6:$D$505,'Movimientos'!$B$6:$B$505,$B37,'Movimientos'!$C$6:$C$505,"Alquiler cobrado",'Movimientos'!$A$6:$A$505,">="&DATE(Annee,2,1),'Movimientos'!$A$6:$A$505,"<"&EDATE(DATE(Annee,2,1),1))) | E37: =IF($B37="","",SUMIFS('Movimientos'!$D$6:$D$505,'Movimientos'!$B$6:$B$505,$B37,'Movimientos'!$C$6:$C$505,"Alquiler cobrado",'Movimientos'!$A$6:$A$505,">="&DATE(Annee,3,1),'Movimientos'!$A$6:$A$505,"<"&EDATE(DATE(Annee,3,1),1))) | F37: =IF($B37="","",SUMIFS('Movimientos'!$D$6:$D$505,'Movimientos'!$B$6:$B$505,$B37,'Movimientos'!$C$6:$C$505,"Alquiler cobrado",'Movimientos'!$A$6:$A$505,">="&DATE(Annee,4,1),'Movimientos'!$A$6:$A$505,"<"&EDATE(DATE(Annee,4,1),1))) | G37: =IF($B37="","",SUMIFS('Movimientos'!$D$6:$D$505,'Movimientos'!$B$6:$B$505,$B37,'Movimientos'!$C$6:$C$505,"Alquiler cobrado",'Movimientos'!$A$6:$A$505,">="&DATE(Annee,5,1),'Movimientos'!$A$6:$A$505,"<"&EDATE(DATE(Annee,5,1),1))) | H37: =IF($B37="","",SUMIFS('Movimientos'!$D$6:$D$505,'Movimientos'!$B$6:$B$505,$B37,'Movimientos'!$C$6:$C$505,"Alquiler cobrado",'Movimientos'!$A$6:$A$505,">="&DATE(Annee,6,1),'Movimientos'!$A$6:$A$505,"<"&EDATE(DATE(Annee,6,1),1))) | I37: =IF($B37="","",SUMIFS('Movimientos'!$D$6:$D$505,'Movimientos'!$B$6:$B$505,$B37,'Movimientos'!$C$6:$C$505,"Alquiler cobrado",'Movimientos'!$A$6:$A$505,">="&DATE(Annee,7,1),'Movimientos'!$A$6:$A$505,"<"&EDATE(DATE(Annee,7,1),1))) | J37: =IF($B37="","",SUMIFS('Movimientos'!$D$6:$D$505,'Movimientos'!$B$6:$B$505,$B37,'Movimientos'!$C$6:$C$505,"Alquiler cobrado",'Movimientos'!$A$6:$A$505,">="&DATE(Annee,8,1),'Movimientos'!$A$6:$A$505,"<"&EDATE(DATE(Annee,8,1),1))) | K37: =IF($B37="","",SUMIFS('Movimientos'!$D$6:$D$505,'Movimientos'!$B$6:$B$505,$B37,'Movimientos'!$C$6:$C$505,"Alquiler cobrado",'Movimientos'!$A$6:$A$505,">="&DATE(Annee,9,1),'Movimientos'!$A$6:$A$505,"<"&EDATE(DATE(Annee,9,1),1))) | L37: =IF($B37="","",SUMIFS('Movimientos'!$D$6:$D$505,'Movimientos'!$B$6:$B$505,$B37,'Movimientos'!$C$6:$C$505,"Alquiler cobrado",'Movimientos'!$A$6:$A$505,">="&DATE(Annee,10,1),'Movimientos'!$A$6:$A$505,"<"&EDATE(DATE(Annee,10,1),1))) | M37: =IF($B37="","",SUMIFS('Movimientos'!$D$6:$D$505,'Movimientos'!$B$6:$B$505,$B37,'Movimientos'!$C$6:$C$505,"Alquiler cobrado",'Movimientos'!$A$6:$A$505,">="&DATE(Annee,11,1),'Movimientos'!$A$6:$A$505,"<"&EDATE(DATE(Annee,11,1),1))) | N37: =IF($B37="","",SUMIFS('Movimientos'!$D$6:$D$505,'Movimientos'!$B$6:$B$505,$B37,'Movimientos'!$C$6:$C$505,"Alquiler cobrado",'Movimientos'!$A$6:$A$505,">="&DATE(Annee,12,1),'Movimientos'!$A$6:$A$505,"<"&EDATE(DATE(Annee,12,1),1)))
B38: =B14 | C38: =IF($B38="","",SUMIFS('Movimientos'!$D$6:$D$505,'Movimientos'!$B$6:$B$505,$B38,'Movimientos'!$C$6:$C$505,"Alquiler cobrado",'Movimientos'!$A$6:$A$505,">="&DATE(Annee,1,1),'Movimientos'!$A$6:$A$505,"<"&EDATE(DATE(Annee,1,1),1))) | D38: =IF($B38="","",SUMIFS('Movimientos'!$D$6:$D$505,'Movimientos'!$B$6:$B$505,$B38,'Movimientos'!$C$6:$C$505,"Alquiler cobrado",'Movimientos'!$A$6:$A$505,">="&DATE(Annee,2,1),'Movimientos'!$A$6:$A$505,"<"&EDATE(DATE(Annee,2,1),1))) | E38: =IF($B38="","",SUMIFS('Movimientos'!$D$6:$D$505,'Movimientos'!$B$6:$B$505,$B38,'Movimientos'!$C$6:$C$505,"Alquiler cobrado",'Movimientos'!$A$6:$A$505,">="&DATE(Annee,3,1),'Movimientos'!$A$6:$A$505,"<"&EDATE(DATE(Annee,3,1),1))) | F38: =IF($B38="","",SUMIFS('Movimientos'!$D$6:$D$505,'Movimientos'!$B$6:$B$505,$B38,'Movimientos'!$C$6:$C$505,"Alquiler cobrado",'Movimientos'!$A$6:$A$505,">="&DATE(Annee,4,1),'Movimientos'!$A$6:$A$505,"<"&EDATE(DATE(Annee,4,1),1))) | G38: =IF($B38="","",SUMIFS('Movimientos'!$D$6:$D$505,'Movimientos'!$B$6:$B$505,$B38,'Movimientos'!$C$6:$C$505,"Alquiler cobrado",'Movimientos'!$A$6:$A$505,">="&DATE(Annee,5,1),'Movimientos'!$A$6:$A$505,"<"&EDATE(DATE(Annee,5,1),1))) | H38: =IF($B38="","",SUMIFS('Movimientos'!$D$6:$D$505,'Movimientos'!$B$6:$B$505,$B38,'Movimientos'!$C$6:$C$505,"Alquiler cobrado",'Movimientos'!$A$6:$A$505,">="&DATE(Annee,6,1),'Movimientos'!$A$6:$A$505,"<"&EDATE(DATE(Annee,6,1),1))) | I38: =IF($B38="","",SUMIFS('Movimientos'!$D$6:$D$505,'Movimientos'!$B$6:$B$505,$B38,'Movimientos'!$C$6:$C$505,"Alquiler cobrado",'Movimientos'!$A$6:$A$505,">="&DATE(Annee,7,1),'Movimientos'!$A$6:$A$505,"<"&EDATE(DATE(Annee,7,1),1))) | J38: =IF($B38="","",SUMIFS('Movimientos'!$D$6:$D$505,'Movimientos'!$B$6:$B$505,$B38,'Movimientos'!$C$6:$C$505,"Alquiler cobrado",'Movimientos'!$A$6:$A$505,">="&DATE(Annee,8,1),'Movimientos'!$A$6:$A$505,"<"&EDATE(DATE(Annee,8,1),1))) | K38: =IF($B38="","",SUMIFS('Movimientos'!$D$6:$D$505,'Movimientos'!$B$6:$B$505,$B38,'Movimientos'!$C$6:$C$505,"Alquiler cobrado",'Movimientos'!$A$6:$A$505,">="&DATE(Annee,9,1),'Movimientos'!$A$6:$A$505,"<"&EDATE(DATE(Annee,9,1),1))) | L38: =IF($B38="","",SUMIFS('Movimientos'!$D$6:$D$505,'Movimientos'!$B$6:$B$505,$B38,'Movimientos'!$C$6:$C$505,"Alquiler cobrado",'Movimientos'!$A$6:$A$505,">="&DATE(Annee,10,1),'Movimientos'!$A$6:$A$505,"<"&EDATE(DATE(Annee,10,1),1))) | M38: =IF($B38="","",SUMIFS('Movimientos'!$D$6:$D$505,'Movimientos'!$B$6:$B$505,$B38,'Movimientos'!$C$6:$C$505,"Alquiler cobrado",'Movimientos'!$A$6:$A$505,">="&DATE(Annee,11,1),'Movimientos'!$A$6:$A$505,"<"&EDATE(DATE(Annee,11,1),1))) | N38: =IF($B38="","",SUMIFS('Movimientos'!$D$6:$D$505,'Movimientos'!$B$6:$B$505,$B38,'Movimientos'!$C$6:$C$505,"Alquiler cobrado",'Movimientos'!$A$6:$A$505,">="&DATE(Annee,12,1),'Movimientos'!$A$6:$A$505,"<"&EDATE(DATE(Annee,12,1),1)))
B39: =B15 | C39: =IF($B39="","",SUMIFS('Movimientos'!$D$6:$D$505,'Movimientos'!$B$6:$B$505,$B39,'Movimientos'!$C$6:$C$505,"Alquiler cobrado",'Movimientos'!$A$6:$A$505,">="&DATE(Annee,1,1),'Movimientos'!$A$6:$A$505,"<"&EDATE(DATE(Annee,1,1),1))) | D39: =IF($B39="","",SUMIFS('Movimientos'!$D$6:$D$505,'Movimientos'!$B$6:$B$505,$B39,'Movimientos'!$C$6:$C$505,"Alquiler cobrado",'Movimientos'!$A$6:$A$505,">="&DATE(Annee,2,1),'Movimientos'!$A$6:$A$505,"<"&EDATE(DATE(Annee,2,1),1))) | E39: =IF($B39="","",SUMIFS('Movimientos'!$D$6:$D$505,'Movimientos'!$B$6:$B$505,$B39,'Movimientos'!$C$6:$C$505,"Alquiler cobrado",'Movimientos'!$A$6:$A$505,">="&DATE(Annee,3,1),'Movimientos'!$A$6:$A$505,"<"&EDATE(DATE(Annee,3,1),1))) | F39: =IF($B39="","",SUMIFS('Movimientos'!$D$6:$D$505,'Movimientos'!$B$6:$B$505,$B39,'Movimientos'!$C$6:$C$505,"Alquiler cobrado",'Movimientos'!$A$6:$A$505,">="&DATE(Annee,4,1),'Movimientos'!$A$6:$A$505,"<"&EDATE(DATE(Annee,4,1),1))) | G39: =IF($B39="","",SUMIFS('Movimientos'!$D$6:$D$505,'Movimientos'!$B$6:$B$505,$B39,'Movimientos'!$C$6:$C$505,"Alquiler cobrado",'Movimientos'!$A$6:$A$505,">="&DATE(Annee,5,1),'Movimientos'!$A$6:$A$505,"<"&EDATE(DATE(Annee,5,1),1))) | H39: =IF($B39="","",SUMIFS('Movimientos'!$D$6:$D$505,'Movimientos'!$B$6:$B$505,$B39,'Movimientos'!$C$6:$C$505,"Alquiler cobrado",'Movimientos'!$A$6:$A$505,">="&DATE(Annee,6,1),'Movimientos'!$A$6:$A$505,"<"&EDATE(DATE(Annee,6,1),1))) | I39: =IF($B39="","",SUMIFS('Movimientos'!$D$6:$D$505,'Movimientos'!$B$6:$B$505,$B39,'Movimientos'!$C$6:$C$505,"Alquiler cobrado",'Movimientos'!$A$6:$A$505,">="&DATE(Annee,7,1),'Movimientos'!$A$6:$A$505,"<"&EDATE(DATE(Annee,7,1),1))) | J39: =IF($B39="","",SUMIFS('Movimientos'!$D$6:$D$505,'Movimientos'!$B$6:$B$505,$B39,'Movimientos'!$C$6:$C$505,"Alquiler cobrado",'Movimientos'!$A$6:$A$505,">="&DATE(Annee,8,1),'Movimientos'!$A$6:$A$505,"<"&EDATE(DATE(Annee,8,1),1))) | K39: =IF($B39="","",SUMIFS('Movimientos'!$D$6:$D$505,'Movimientos'!$B$6:$B$505,$B39,'Movimientos'!$C$6:$C$505,"Alquiler cobrado",'Movimientos'!$A$6:$A$505,">="&DATE(Annee,9,1),'Movimientos'!$A$6:$A$505,"<"&EDATE(DATE(Annee,9,1),1))) | L39: =IF($B39="","",SUMIFS('Movimientos'!$D$6:$D$505,'Movimientos'!$B$6:$B$505,$B39,'Movimientos'!$C$6:$C$505,"Alquiler cobrado",'Movimientos'!$A$6:$A$505,">="&DATE(Annee,10,1),'Movimientos'!$A$6:$A$505,"<"&EDATE(DATE(Annee,10,1),1))) | M39: =IF($B39="","",SUMIFS('Movimientos'!$D$6:$D$505,'Movimientos'!$B$6:$B$505,$B39,'Movimientos'!$C$6:$C$505,"Alquiler cobrado",'Movimientos'!$A$6:$A$505,">="&DATE(Annee,11,1),'Movimientos'!$A$6:$A$505,"<"&EDATE(DATE(Annee,11,1),1))) | N39: =IF($B39="","",SUMIFS('Movimientos'!$D$6:$D$505,'Movimientos'!$B$6:$B$505,$B39,'Movimientos'!$C$6:$C$505,"Alquiler cobrado",'Movimientos'!$A$6:$A$505,">="&DATE(Annee,12,1),'Movimientos'!$A$6:$A$505,"<"&EDATE(DATE(Annee,12,1),1)))
B40: =B16 | C40: =IF($B40="","",SUMIFS('Movimientos'!$D$6:$D$505,'Movimientos'!$B$6:$B$505,$B40,'Movimientos'!$C$6:$C$505,"Alquiler cobrado",'Movimientos'!$A$6:$A$505,">="&DATE(Annee,1,1),'Movimientos'!$A$6:$A$505,"<"&EDATE(DATE(Annee,1,1),1))) | D40: =IF($B40="","",SUMIFS('Movimientos'!$D$6:$D$505,'Movimientos'!$B$6:$B$505,$B40,'Movimientos'!$C$6:$C$505,"Alquiler cobrado",'Movimientos'!$A$6:$A$505,">="&DATE(Annee,2,1),'Movimientos'!$A$6:$A$505,"<"&EDATE(DATE(Annee,2,1),1))) | E40: =IF($B40="","",SUMIFS('Movimientos'!$D$6:$D$505,'Movimientos'!$B$6:$B$505,$B40,'Movimientos'!$C$6:$C$505,"Alquiler cobrado",'Movimientos'!$A$6:$A$505,">="&DATE(Annee,3,1),'Movimientos'!$A$6:$A$505,"<"&EDATE(DATE(Annee,3,1),1))) | F40: =IF($B40="","",SUMIFS('Movimientos'!$D$6:$D$505,'Movimientos'!$B$6:$B$505,$B40,'Movimientos'!$C$6:$C$505,"Alquiler cobrado",'Movimientos'!$A$6:$A$505,">="&DATE(Annee,4,1),'Movimientos'!$A$6:$A$505,"<"&EDATE(DATE(Annee,4,1),1))) | G40: =IF($B40="","",SUMIFS('Movimientos'!$D$6:$D$505,'Movimientos'!$B$6:$B$505,$B40,'Movimientos'!$C$6:$C$505,"Alquiler cobrado",'Movimientos'!$A$6:$A$505,">="&DATE(Annee,5,1),'Movimientos'!$A$6:$A$505,"<"&EDATE(DATE(Annee,5,1),1))) | H40: =IF($B40="","",SUMIFS('Movimientos'!$D$6:$D$505,'Movimientos'!$B$6:$B$505,$B40,'Movimientos'!$C$6:$C$505,"Alquiler cobrado",'Movimientos'!$A$6:$A$505,">="&DATE(Annee,6,1),'Movimientos'!$A$6:$A$505,"<"&EDATE(DATE(Annee,6,1),1))) | I40: =IF($B40="","",SUMIFS('Movimientos'!$D$6:$D$505,'Movimientos'!$B$6:$B$505,$B40,'Movimientos'!$C$6:$C$505,"Alquiler cobrado",'Movimientos'!$A$6:$A$505,">="&DATE(Annee,7,1),'Movimientos'!$A$6:$A$505,"<"&EDATE(DATE(Annee,7,1),1))) | J40: =IF($B40="","",SUMIFS('Movimientos'!$D$6:$D$505,'Movimientos'!$B$6:$B$505,$B40,'Movimientos'!$C$6:$C$505,"Alquiler cobrado",'Movimientos'!$A$6:$A$505,">="&DATE(Annee,8,1),'Movimientos'!$A$6:$A$505,"<"&EDATE(DATE(Annee,8,1),1))) | K40: =IF($B40="","",SUMIFS('Movimientos'!$D$6:$D$505,'Movimientos'!$B$6:$B$505,$B40,'Movimientos'!$C$6:$C$505,"Alquiler cobrado",'Movimientos'!$A$6:$A$505,">="&DATE(Annee,9,1),'Movimientos'!$A$6:$A$505,"<"&EDATE(DATE(Annee,9,1),1))) | L40: =IF($B40="","",SUMIFS('Movimientos'!$D$6:$D$505,'Movimientos'!$B$6:$B$505,$B40,'Movimientos'!$C$6:$C$505,"Alquiler cobrado",'Movimientos'!$A$6:$A$505,">="&DATE(Annee,10,1),'Movimientos'!$A$6:$A$505,"<"&EDATE(DATE(Annee,10,1),1))) | M40: =IF($B40="","",SUMIFS('Movimientos'!$D$6:$D$505,'Movimientos'!$B$6:$B$505,$B40,'Movimientos'!$C$6:$C$505,"Alquiler cobrado",'Movimientos'!$A$6:$A$505,">="&DATE(Annee,11,1),'Movimientos'!$A$6:$A$505,"<"&EDATE(DATE(Annee,11,1),1))) | N40: =IF($B40="","",SUMIFS('Movimientos'!$D$6:$D$505,'Movimientos'!$B$6:$B$505,$B40,'Movimientos'!$C$6:$C$505,"Alquiler cobrado",'Movimientos'!$A$6:$A$505,">="&DATE(Annee,12,1),'Movimientos'!$A$6:$A$505,"<"&EDATE(DATE(Annee,12,1),1)))
B41: =B17 | C41: =IF($B41="","",SUMIFS('Movimientos'!$D$6:$D$505,'Movimientos'!$B$6:$B$505,$B41,'Movimientos'!$C$6:$C$505,"Alquiler cobrado",'Movimientos'!$A$6:$A$505,">="&DATE(Annee,1,1),'Movimientos'!$A$6:$A$505,"<"&EDATE(DATE(Annee,1,1),1))) | D41: =IF($B41="","",SUMIFS('Movimientos'!$D$6:$D$505,'Movimientos'!$B$6:$B$505,$B41,'Movimientos'!$C$6:$C$505,"Alquiler cobrado",'Movimientos'!$A$6:$A$505,">="&DATE(Annee,2,1),'Movimientos'!$A$6:$A$505,"<"&EDATE(DATE(Annee,2,1),1))) | E41: =IF($B41="","",SUMIFS('Movimientos'!$D$6:$D$505,'Movimientos'!$B$6:$B$505,$B41,'Movimientos'!$C$6:$C$505,"Alquiler cobrado",'Movimientos'!$A$6:$A$505,">="&DATE(Annee,3,1),'Movimientos'!$A$6:$A$505,"<"&EDATE(DATE(Annee,3,1),1))) | F41: =IF($B41="","",SUMIFS('Movimientos'!$D$6:$D$505,'Movimientos'!$B$6:$B$505,$B41,'Movimientos'!$C$6:$C$505,"Alquiler cobrado",'Movimientos'!$A$6:$A$505,">="&DATE(Annee,4,1),'Movimientos'!$A$6:$A$505,"<"&EDATE(DATE(Annee,4,1),1))) | G41: =IF($B41="","",SUMIFS('Movimientos'!$D$6:$D$505,'Movimientos'!$B$6:$B$505,$B41,'Movimientos'!$C$6:$C$505,"Alquiler cobrado",'Movimientos'!$A$6:$A$505,">="&DATE(Annee,5,1),'Movimientos'!$A$6:$A$505,"<"&EDATE(DATE(Annee,5,1),1))) | H41: =IF($B41="","",SUMIFS('Movimientos'!$D$6:$D$505,'Movimientos'!$B$6:$B$505,$B41,'Movimientos'!$C$6:$C$505,"Alquiler cobrado",'Movimientos'!$A$6:$A$505,">="&DATE(Annee,6,1),'Movimientos'!$A$6:$A$505,"<"&EDATE(DATE(Annee,6,1),1))) | I41: =IF($B41="","",SUMIFS('Movimientos'!$D$6:$D$505,'Movimientos'!$B$6:$B$505,$B41,'Movimientos'!$C$6:$C$505,"Alquiler cobrado",'Movimientos'!$A$6:$A$505,">="&DATE(Annee,7,1),'Movimientos'!$A$6:$A$505,"<"&EDATE(DATE(Annee,7,1),1))) | J41: =IF($B41="","",SUMIFS('Movimientos'!$D$6:$D$505,'Movimientos'!$B$6:$B$505,$B41,'Movimientos'!$C$6:$C$505,"Alquiler cobrado",'Movimientos'!$A$6:$A$505,">="&DATE(Annee,8,1),'Movimientos'!$A$6:$A$505,"<"&EDATE(DATE(Annee,8,1),1))) | K41: =IF($B41="","",SUMIFS('Movimientos'!$D$6:$D$505,'Movimientos'!$B$6:$B$505,$B41,'Movimientos'!$C$6:$C$505,"Alquiler cobrado",'Movimientos'!$A$6:$A$505,">="&DATE(Annee,9,1),'Movimientos'!$A$6:$A$505,"<"&EDATE(DATE(Annee,9,1),1))) | L41: =IF($B41="","",SUMIFS('Movimientos'!$D$6:$D$505,'Movimientos'!$B$6:$B$505,$B41,'Movimientos'!$C$6:$C$505,"Alquiler cobrado",'Movimientos'!$A$6:$A$505,">="&DATE(Annee,10,1),'Movimientos'!$A$6:$A$505,"<"&EDATE(DATE(Annee,10,1),1))) | M41: =IF($B41="","",SUMIFS('Movimientos'!$D$6:$D$505,'Movimientos'!$B$6:$B$505,$B41,'Movimientos'!$C$6:$C$505,"Alquiler cobrado",'Movimientos'!$A$6:$A$505,">="&DATE(Annee,11,1),'Movimientos'!$A$6:$A$505,"<"&EDATE(DATE(Annee,11,1),1))) | N41: =IF($B41="","",SUMIFS('Movimientos'!$D$6:$D$505,'Movimientos'!$B$6:$B$505,$B41,'Movimientos'!$C$6:$C$505,"Alquiler cobrado",'Movimientos'!$A$6:$A$505,">="&DATE(Annee,12,1),'Movimientos'!$A$6:$A$505,"<"&EDATE(DATE(Annee,12,1),1)))
B42: =B18 | C42: =IF($B42="","",SUMIFS('Movimientos'!$D$6:$D$505,'Movimientos'!$B$6:$B$505,$B42,'Movimientos'!$C$6:$C$505,"Alquiler cobrado",'Movimientos'!$A$6:$A$505,">="&DATE(Annee,1,1),'Movimientos'!$A$6:$A$505,"<"&EDATE(DATE(Annee,1,1),1))) | D42: =IF($B42="","",SUMIFS('Movimientos'!$D$6:$D$505,'Movimientos'!$B$6:$B$505,$B42,'Movimientos'!$C$6:$C$505,"Alquiler cobrado",'Movimientos'!$A$6:$A$505,">="&DATE(Annee,2,1),'Movimientos'!$A$6:$A$505,"<"&EDATE(DATE(Annee,2,1),1))) | E42: =IF($B42="","",SUMIFS('Movimientos'!$D$6:$D$505,'Movimientos'!$B$6:$B$505,$B42,'Movimientos'!$C$6:$C$505,"Alquiler cobrado",'Movimientos'!$A$6:$A$505,">="&DATE(Annee,3,1),'Movimientos'!$A$6:$A$505,"<"&EDATE(DATE(Annee,3,1),1))) | F42: =IF($B42="","",SUMIFS('Movimientos'!$D$6:$D$505,'Movimientos'!$B$6:$B$505,$B42,'Movimientos'!$C$6:$C$505,"Alquiler cobrado",'Movimientos'!$A$6:$A$505,">="&DATE(Annee,4,1),'Movimientos'!$A$6:$A$505,"<"&EDATE(DATE(Annee,4,1),1))) | G42: =IF($B42="","",SUMIFS('Movimientos'!$D$6:$D$505,'Movimientos'!$B$6:$B$505,$B42,'Movimientos'!$C$6:$C$505,"Alquiler cobrado",'Movimientos'!$A$6:$A$505,">="&DATE(Annee,5,1),'Movimientos'!$A$6:$A$505,"<"&EDATE(DATE(Annee,5,1),1))) | H42: =IF($B42="","",SUMIFS('Movimientos'!$D$6:$D$505,'Movimientos'!$B$6:$B$505,$B42,'Movimientos'!$C$6:$C$505,"Alquiler cobrado",'Movimientos'!$A$6:$A$505,">="&DATE(Annee,6,1),'Movimientos'!$A$6:$A$505,"<"&EDATE(DATE(Annee,6,1),1))) | I42: =IF($B42="","",SUMIFS('Movimientos'!$D$6:$D$505,'Movimientos'!$B$6:$B$505,$B42,'Movimientos'!$C$6:$C$505,"Alquiler cobrado",'Movimientos'!$A$6:$A$505,">="&DATE(Annee,7,1),'Movimientos'!$A$6:$A$505,"<"&EDATE(DATE(Annee,7,1),1))) | J42: =IF($B42="","",SUMIFS('Movimientos'!$D$6:$D$505,'Movimientos'!$B$6:$B$505,$B42,'Movimientos'!$C$6:$C$505,"Alquiler cobrado",'Movimientos'!$A$6:$A$505,">="&DATE(Annee,8,1),'Movimientos'!$A$6:$A$505,"<"&EDATE(DATE(Annee,8,1),1))) | K42: =IF($B42="","",SUMIFS('Movimientos'!$D$6:$D$505,'Movimientos'!$B$6:$B$505,$B42,'Movimientos'!$C$6:$C$505,"Alquiler cobrado",'Movimientos'!$A$6:$A$505,">="&DATE(Annee,9,1),'Movimientos'!$A$6:$A$505,"<"&EDATE(DATE(Annee,9,1),1))) | L42: =IF($B42="","",SUMIFS('Movimientos'!$D$6:$D$505,'Movimientos'!$B$6:$B$505,$B42,'Movimientos'!$C$6:$C$505,"Alquiler cobrado",'Movimientos'!$A$6:$A$505,">="&DATE(Annee,10,1),'Movimientos'!$A$6:$A$505,"<"&EDATE(DATE(Annee,10,1),1))) | M42: =IF($B42="","",SUMIFS('Movimientos'!$D$6:$D$505,'Movimientos'!$B$6:$B$505,$B42,'Movimientos'!$C$6:$C$505,"Alquiler cobrado",'Movimientos'!$A$6:$A$505,">="&DATE(Annee,11,1),'Movimientos'!$A$6:$A$505,"<"&EDATE(DATE(Annee,11,1),1))) | N42: =IF($B42="","",SUMIFS('Movimientos'!$D$6:$D$505,'Movimientos'!$B$6:$B$505,$B42,'Movimientos'!$C$6:$C$505,"Alquiler cobrado",'Movimientos'!$A$6:$A$505,">="&DATE(Annee,12,1),'Movimientos'!$A$6:$A$505,"<"&EDATE(DATE(Annee,12,1),1)))
B43: =B19 | C43: =IF($B43="","",SUMIFS('Movimientos'!$D$6:$D$505,'Movimientos'!$B$6:$B$505,$B43,'Movimientos'!$C$6:$C$505,"Alquiler cobrado",'Movimientos'!$A$6:$A$505,">="&DATE(Annee,1,1),'Movimientos'!$A$6:$A$505,"<"&EDATE(DATE(Annee,1,1),1))) | D43: =IF($B43="","",SUMIFS('Movimientos'!$D$6:$D$505,'Movimientos'!$B$6:$B$505,$B43,'Movimientos'!$C$6:$C$505,"Alquiler cobrado",'Movimientos'!$A$6:$A$505,">="&DATE(Annee,2,1),'Movimientos'!$A$6:$A$505,"<"&EDATE(DATE(Annee,2,1),1))) | E43: =IF($B43="","",SUMIFS('Movimientos'!$D$6:$D$505,'Movimientos'!$B$6:$B$505,$B43,'Movimientos'!$C$6:$C$505,"Alquiler cobrado",'Movimientos'!$A$6:$A$505,">="&DATE(Annee,3,1),'Movimientos'!$A$6:$A$505,"<"&EDATE(DATE(Annee,3,1),1))) | F43: =IF($B43="","",SUMIFS('Movimientos'!$D$6:$D$505,'Movimientos'!$B$6:$B$505,$B43,'Movimientos'!$C$6:$C$505,"Alquiler cobrado",'Movimientos'!$A$6:$A$505,">="&DATE(Annee,4,1),'Movimientos'!$A$6:$A$505,"<"&EDATE(DATE(Annee,4,1),1))) | G43: =IF($B43="","",SUMIFS('Movimientos'!$D$6:$D$505,'Movimientos'!$B$6:$B$505,$B43,'Movimientos'!$C$6:$C$505,"Alquiler cobrado",'Movimientos'!$A$6:$A$505,">="&DATE(Annee,5,1),'Movimientos'!$A$6:$A$505,"<"&EDATE(DATE(Annee,5,1),1))) | H43: =IF($B43="","",SUMIFS('Movimientos'!$D$6:$D$505,'Movimientos'!$B$6:$B$505,$B43,'Movimientos'!$C$6:$C$505,"Alquiler cobrado",'Movimientos'!$A$6:$A$505,">="&DATE(Annee,6,1),'Movimientos'!$A$6:$A$505,"<"&EDATE(DATE(Annee,6,1),1))) | I43: =IF($B43="","",SUMIFS('Movimientos'!$D$6:$D$505,'Movimientos'!$B$6:$B$505,$B43,'Movimientos'!$C$6:$C$505,"Alquiler cobrado",'Movimientos'!$A$6:$A$505,">="&DATE(Annee,7,1),'Movimientos'!$A$6:$A$505,"<"&EDATE(DATE(Annee,7,1),1))) | J43: =IF($B43="","",SUMIFS('Movimientos'!$D$6:$D$505,'Movimientos'!$B$6:$B$505,$B43,'Movimientos'!$C$6:$C$505,"Alquiler cobrado",'Movimientos'!$A$6:$A$505,">="&DATE(Annee,8,1),'Movimientos'!$A$6:$A$505,"<"&EDATE(DATE(Annee,8,1),1))) | K43: =IF($B43="","",SUMIFS('Movimientos'!$D$6:$D$505,'Movimientos'!$B$6:$B$505,$B43,'Movimientos'!$C$6:$C$505,"Alquiler cobrado",'Movimientos'!$A$6:$A$505,">="&DATE(Annee,9,1),'Movimientos'!$A$6:$A$505,"<"&EDATE(DATE(Annee,9,1),1))) | L43: =IF($B43="","",SUMIFS('Movimientos'!$D$6:$D$505,'Movimientos'!$B$6:$B$505,$B43,'Movimientos'!$C$6:$C$505,"Alquiler cobrado",'Movimientos'!$A$6:$A$505,">="&DATE(Annee,10,1),'Movimientos'!$A$6:$A$505,"<"&EDATE(DATE(Annee,10,1),1))) | M43: =IF($B43="","",SUMIFS('Movimientos'!$D$6:$D$505,'Movimientos'!$B$6:$B$505,$B43,'Movimientos'!$C$6:$C$505,"Alquiler cobrado",'Movimientos'!$A$6:$A$505,">="&DATE(Annee,11,1),'Movimientos'!$A$6:$A$505,"<"&EDATE(DATE(Annee,11,1),1))) | N43: =IF($B43="","",SUMIFS('Movimientos'!$D$6:$D$505,'Movimientos'!$B$6:$B$505,$B43,'Movimientos'!$C$6:$C$505,"Alquiler cobrado",'Movimientos'!$A$6:$A$505,">="&DATE(Annee,12,1),'Movimientos'!$A$6:$A$505,"<"&EDATE(DATE(Annee,12,1),1)))
B44: =B20 | C44: =IF($B44="","",SUMIFS('Movimientos'!$D$6:$D$505,'Movimientos'!$B$6:$B$505,$B44,'Movimientos'!$C$6:$C$505,"Alquiler cobrado",'Movimientos'!$A$6:$A$505,">="&DATE(Annee,1,1),'Movimientos'!$A$6:$A$505,"<"&EDATE(DATE(Annee,1,1),1))) | D44: =IF($B44="","",SUMIFS('Movimientos'!$D$6:$D$505,'Movimientos'!$B$6:$B$505,$B44,'Movimientos'!$C$6:$C$505,"Alquiler cobrado",'Movimientos'!$A$6:$A$505,">="&DATE(Annee,2,1),'Movimientos'!$A$6:$A$505,"<"&EDATE(DATE(Annee,2,1),1))) | E44: =IF($B44="","",SUMIFS('Movimientos'!$D$6:$D$505,'Movimientos'!$B$6:$B$505,$B44,'Movimientos'!$C$6:$C$505,"Alquiler cobrado",'Movimientos'!$A$6:$A$505,">="&DATE(Annee,3,1),'Movimientos'!$A$6:$A$505,"<"&EDATE(DATE(Annee,3,1),1))) | F44: =IF($B44="","",SUMIFS('Movimientos'!$D$6:$D$505,'Movimientos'!$B$6:$B$505,$B44,'Movimientos'!$C$6:$C$505,"Alquiler cobrado",'Movimientos'!$A$6:$A$505,">="&DATE(Annee,4,1),'Movimientos'!$A$6:$A$505,"<"&EDATE(DATE(Annee,4,1),1))) | G44: =IF($B44="","",SUMIFS('Movimientos'!$D$6:$D$505,'Movimientos'!$B$6:$B$505,$B44,'Movimientos'!$C$6:$C$505,"Alquiler cobrado",'Movimientos'!$A$6:$A$505,">="&DATE(Annee,5,1),'Movimientos'!$A$6:$A$505,"<"&EDATE(DATE(Annee,5,1),1))) | H44: =IF($B44="","",SUMIFS('Movimientos'!$D$6:$D$505,'Movimientos'!$B$6:$B$505,$B44,'Movimientos'!$C$6:$C$505,"Alquiler cobrado",'Movimientos'!$A$6:$A$505,">="&DATE(Annee,6,1),'Movimientos'!$A$6:$A$505,"<"&EDATE(DATE(Annee,6,1),1))) | I44: =IF($B44="","",SUMIFS('Movimientos'!$D$6:$D$505,'Movimientos'!$B$6:$B$505,$B44,'Movimientos'!$C$6:$C$505,"Alquiler cobrado",'Movimientos'!$A$6:$A$505,">="&DATE(Annee,7,1),'Movimientos'!$A$6:$A$505,"<"&EDATE(DATE(Annee,7,1),1))) | J44: =IF($B44="","",SUMIFS('Movimientos'!$D$6:$D$505,'Movimientos'!$B$6:$B$505,$B44,'Movimientos'!$C$6:$C$505,"Alquiler cobrado",'Movimientos'!$A$6:$A$505,">="&DATE(Annee,8,1),'Movimientos'!$A$6:$A$505,"<"&EDATE(DATE(Annee,8,1),1))) | K44: =IF($B44="","",SUMIFS('Movimientos'!$D$6:$D$505,'Movimientos'!$B$6:$B$505,$B44,'Movimientos'!$C$6:$C$505,"Alquiler cobrado",'Movimientos'!$A$6:$A$505,">="&DATE(Annee,9,1),'Movimientos'!$A$6:$A$505,"<"&EDATE(DATE(Annee,9,1),1))) | L44: =IF($B44="","",SUMIFS('Movimientos'!$D$6:$D$505,'Movimientos'!$B$6:$B$505,$B44,'Movimientos'!$C$6:$C$505,"Alquiler cobrado",'Movimientos'!$A$6:$A$505,">="&DATE(Annee,10,1),'Movimientos'!$A$6:$A$505,"<"&EDATE(DATE(Annee,10,1),1))) | M44: =IF($B44="","",SUMIFS('Movimientos'!$D$6:$D$505,'Movimientos'!$B$6:$B$505,$B44,'Movimientos'!$C$6:$C$505,"Alquiler cobrado",'Movimientos'!$A$6:$A$505,">="&DATE(Annee,11,1),'Movimientos'!$A$6:$A$505,"<"&EDATE(DATE(Annee,11,1),1))) | N44: =IF($B44="","",SUMIFS('Movimientos'!$D$6:$D$505,'Movimientos'!$B$6:$B$505,$B44,'Movimientos'!$C$6:$C$505,"Alquiler cobrado",'Movimientos'!$A$6:$A$505,">="&DATE(Annee,12,1),'Movimientos'!$A$6:$A$505,"<"&EDATE(DATE(Annee,12,1),1)))
B45: =B21 | C45: =IF($B45="","",SUMIFS('Movimientos'!$D$6:$D$505,'Movimientos'!$B$6:$B$505,$B45,'Movimientos'!$C$6:$C$505,"Alquiler cobrado",'Movimientos'!$A$6:$A$505,">="&DATE(Annee,1,1),'Movimientos'!$A$6:$A$505,"<"&EDATE(DATE(Annee,1,1),1))) | D45: =IF($B45="","",SUMIFS('Movimientos'!$D$6:$D$505,'Movimientos'!$B$6:$B$505,$B45,'Movimientos'!$C$6:$C$505,"Alquiler cobrado",'Movimientos'!$A$6:$A$505,">="&DATE(Annee,2,1),'Movimientos'!$A$6:$A$505,"<"&EDATE(DATE(Annee,2,1),1))) | E45: =IF($B45="","",SUMIFS('Movimientos'!$D$6:$D$505,'Movimientos'!$B$6:$B$505,$B45,'Movimientos'!$C$6:$C$505,"Alquiler cobrado",'Movimientos'!$A$6:$A$505,">="&DATE(Annee,3,1),'Movimientos'!$A$6:$A$505,"<"&EDATE(DATE(Annee,3,1),1))) | F45: =IF($B45="","",SUMIFS('Movimientos'!$D$6:$D$505,'Movimientos'!$B$6:$B$505,$B45,'Movimientos'!$C$6:$C$505,"Alquiler cobrado",'Movimientos'!$A$6:$A$505,">="&DATE(Annee,4,1),'Movimientos'!$A$6:$A$505,"<"&EDATE(DATE(Annee,4,1),1))) | G45: =IF($B45="","",SUMIFS('Movimientos'!$D$6:$D$505,'Movimientos'!$B$6:$B$505,$B45,'Movimientos'!$C$6:$C$505,"Alquiler cobrado",'Movimientos'!$A$6:$A$505,">="&DATE(Annee,5,1),'Movimientos'!$A$6:$A$505,"<"&EDATE(DATE(Annee,5,1),1))) | H45: =IF($B45="","",SUMIFS('Movimientos'!$D$6:$D$505,'Movimientos'!$B$6:$B$505,$B45,'Movimientos'!$C$6:$C$505,"Alquiler cobrado",'Movimientos'!$A$6:$A$505,">="&DATE(Annee,6,1),'Movimientos'!$A$6:$A$505,"<"&EDATE(DATE(Annee,6,1),1))) | I45: =IF($B45="","",SUMIFS('Movimientos'!$D$6:$D$505,'Movimientos'!$B$6:$B$505,$B45,'Movimientos'!$C$6:$C$505,"Alquiler cobrado",'Movimientos'!$A$6:$A$505,">="&DATE(Annee,7,1),'Movimientos'!$A$6:$A$505,"<"&EDATE(DATE(Annee,7,1),1))) | J45: =IF($B45="","",SUMIFS('Movimientos'!$D$6:$D$505,'Movimientos'!$B$6:$B$505,$B45,'Movimientos'!$C$6:$C$505,"Alquiler cobrado",'Movimientos'!$A$6:$A$505,">="&DATE(Annee,8,1),'Movimientos'!$A$6:$A$505,"<"&EDATE(DATE(Annee,8,1),1))) | K45: =IF($B45="","",SUMIFS('Movimientos'!$D$6:$D$505,'Movimientos'!$B$6:$B$505,$B45,'Movimientos'!$C$6:$C$505,"Alquiler cobrado",'Movimientos'!$A$6:$A$505,">="&DATE(Annee,9,1),'Movimientos'!$A$6:$A$505,"<"&EDATE(DATE(Annee,9,1),1))) | L45: =IF($B45="","",SUMIFS('Movimientos'!$D$6:$D$505,'Movimientos'!$B$6:$B$505,$B45,'Movimientos'!$C$6:$C$505,"Alquiler cobrado",'Movimientos'!$A$6:$A$505,">="&DATE(Annee,10,1),'Movimientos'!$A$6:$A$505,"<"&EDATE(DATE(Annee,10,1),1))) | M45: =IF($B45="","",SUMIFS('Movimientos'!$D$6:$D$505,'Movimientos'!$B$6:$B$505,$B45,'Movimientos'!$C$6:$C$505,"Alquiler cobrado",'Movimientos'!$A$6:$A$505,">="&DATE(Annee,11,1),'Movimientos'!$A$6:$A$505,"<"&EDATE(DATE(Annee,11,1),1))) | N45: =IF($B45="","",SUMIFS('Movimientos'!$D$6:$D$505,'Movimientos'!$B$6:$B$505,$B45,'Movimientos'!$C$6:$C$505,"Alquiler cobrado",'Movimientos'!$A$6:$A$505,">="&DATE(Annee,12,1),'Movimientos'!$A$6:$A$505,"<"&EDATE(DATE(Annee,12,1),1)))
...

Sheet Listas
A1: Tipo | B1: Lado
A2: Alquiler cobrado | B2: Ingreso
A3: Otro ingreso | B3: Ingreso
A4: Impuesto predial (taxe foncière) | B4: Gasto
A5: Gastos de comunidad | B5: Gasto
A6: Seguro | B6: Gasto
A7: Obras y mantenimiento | B7: Gasto
A8: Gastos de gestión | B8: Gasto
A9: Intereses del préstamo | B9: Gasto
A10: Otro gasto | B10: Gasto
